BEGIN:VCALENDAR
VERSION:2.0
PRODID:-//ChamberMaster//Event Calendar 2.0//EN
METHOD:PUBLISH
X-PUBLISHED-TTL:P3D
REFRESH-INTERVAL:P3D
CALSCALE:GREGORIAN
BEGIN:VEVENT
DTSTART:20141021T203000Z
DTEND:20141021T230000Z
X-MICROSOFT-CDO-ALLDAYEVENT:FALSE
SUMMARY:Business After Hours at Great Woods CrossFit in Norton
DESCRIPTION:You are invited to attend the October Business After Hours at Great Woods CrossFit at 253 Mansfield Ave.\, Unit 1 in Norton. We will be celebrating their opening with a Ribbon Cutting Ceremony at 4:30 followed by the Business After Hours Event.\n\n \n\nThe Chamber's Business After Hour networking events are a great way to meet fellow Chamber members\, to distribute your business cards and/or brochures\, and to make meaningful connections in a comfortable atmosphere. If you have never been to an after-hours let us know and we will make sure an Ambassador welcomes you!\n\n \n\nGreat Woods CrossFit is a 6000 square foot functional fitness facilely located at 253 Mansfield Ave in Norton Massachusetts.  The Professional staff at Great Woods CrossFit strives to push our members\, athletes and community\, to set goals and accomplish things that they did not think was possible. Every individual has their own fitness journey and we are here to help our members reach those goals. It doesn't ' matter if you are someone looking to compete in CrossFit events\, focus on becoming more athletic for a specific sport\, or just trying to become more healthy and fit. Our knowledgeable staff is here in instruct\, teach and motivate our athletes.
X-ALT-DESC;FMTTYPE=text/html:You are invited to attend the October Business After Hours at Great Woods CrossFit at 253 Mansfield Ave.\, Unit 1 in Norton. We will be celebrating their opening with a Ribbon Cutting Ceremony at 4:30 followed by the Business After Hours Event.<br />\n&nbsp\;<br />\nThe Chamber&#39\;s Business After Hour networking events are a great way to meet fellow Chamber members\, to distribute your business cards and/or brochures\, and to make meaningful connections in a comfortable atmosphere. If you have never been to an after-hours let us know and we will make sure an Ambassador welcomes you!<br />\n&nbsp\;<br />\n<em>Great Woods CrossFit is a 6000 square foot functional fitness facilely located at 253 Mansfield Ave in Norton Massachusetts. &nbsp\;The Professional staff at Great Woods CrossFit strives to push our members\, athletes and community\, to set goals and accomplish things that they did not think was possible. Every individual has their own fitness journey and we are here to help our members reach those goals. It doesn&rsquo\;t &rsquo\; matter if you are someone looking to compete in CrossFit events\, focus on becoming more athletic for a specific sport\, or just trying to become more healthy and fit. Our knowledgeable staff is here in instruct\, teach and motivate our athletes.</em>
LOCATION:Great Woods CrossFit 253 Mansfield Ave.\, Unit 1 Norton\, MA
UID:e.1730.1060
SEQUENCE:3
DTSTAMP:20260420T150606Z
URL:https://www.tri-townchamber.org/events/details/business-after-hours-at-great-woods-crossfit-in-norton-10-21-2014-1060
END:VEVENT

END:VCALENDAR
