BEGIN:VCALENDAR
VERSION:2.0
PRODID:-//ChamberMaster//Event Calendar 2.0//EN
METHOD:PUBLISH
X-PUBLISHED-TTL:P3D
REFRESH-INTERVAL:P3D
CALSCALE:GREGORIAN
BEGIN:VEVENT
DTSTART:20150812T230000Z
DTEND:20150813T000000Z
X-MICROSOFT-CDO-ALLDAYEVENT:FALSE
SUMMARY:Brain/Body Wellness & Tasting Event!
DESCRIPTION:Join us for a fun evening of tasting and learning!\n\nHosts: Linda Leland of FeedYourLife.Org and Dianne Kosto of BrainCore Neurofeedback will be presenting. Gain the tools to improve physical/emotional/and mental well being through healthy food choices and cognitive training!
X-ALT-DESC;FMTTYPE=text/html:<h2 style="font-style:italic\;"><big><span style="font-family:tahoma">Join us for a fun evening of tasting and learning!<br />\nHosts: Linda Leland of FeedYourLife.Org and Dianne Kosto of BrainCore Neurofeedback will be presenting. Gain the tools to improve physical/emotional/and mental well being through healthy food choices and cognitive training!</span></big></h2>\n
LOCATION:132 Central Street Suite 205 A Foxboro MA\, 02035
UID:e.1730.1691
SEQUENCE:3
DTSTAMP:20260419T205413Z
URL:https://www.tri-townchamber.org/events/details/brain-body-wellness-tasting-event-08-12-2015-1691
END:VEVENT

END:VCALENDAR
