BEGIN:VCALENDAR
VERSION:2.0
PRODID:-//ChamberMaster//Event Calendar 2.0//EN
METHOD:PUBLISH
X-PUBLISHED-TTL:P3D
REFRESH-INTERVAL:P3D
CALSCALE:GREGORIAN
BEGIN:VEVENT
DTSTART:20151022T223000Z
DTEND:20151023T003000Z
X-MICROSOFT-CDO-ALLDAYEVENT:FALSE
SUMMARY:Bourdeaux Wine Seminar with Jessica Garrity
DESCRIPTION:2000 years of history and tradition with Jessica Garrity
X-ALT-DESC;FMTTYPE=text/html:2000 years of history and tradition with Jessica Garrity
LOCATION:Wines And More 280 School St. Mansfield\, Ma 02048
UID:e.1730.1716
SEQUENCE:3
DTSTAMP:20260419T190051Z
URL:https://www.tri-townchamber.org/events/details/bourdeaux-wine-seminar-with-jessica-garrity-10-22-2015-1716
END:VEVENT

END:VCALENDAR
