BEGIN:VCALENDAR
VERSION:2.0
PRODID:-//ChamberMaster//Event Calendar 2.0//EN
METHOD:PUBLISH
X-PUBLISHED-TTL:P3D
REFRESH-INTERVAL:P3D
CALSCALE:GREGORIAN
BEGIN:VEVENT
DTSTART:20140212T124500Z
DTEND:20140212T140000Z
X-MICROSOFT-CDO-ALLDAYEVENT:FALSE
SUMMARY:BOB: Why Golf?
DESCRIPTION:Business Over Breakfast   Barrie Bruce Golf School\n\nThinking about starting? or need a refresher before the Season starts?\n\nWHY GOLF ?\n\n1. How golf can positively impact your life:\n\n\n	\n		Healthy Lifestyle- the physical benefits\n	\n		Positive Mental Outlook- fun and relaxing\n	\n		Personal relationships- building family time\n	\n		Business Relationships- golf as a networking tool\n\n \n\n2. How to start .. the benefits of a structured clinic\n\n \n\n3. Short hands on putting demo\n\n\n\ninformation about Barrie Bruce Golf School\n\nThe Barrie Bruce Golf Schools is a public golf instructional facility located at the Country Club of Billerica\, in Billerica\, Massachusetts ( MA ). We offer a wide range of golf instruction to golfers of all levels and ages. You can choose from group lessons for the new golfer\, private instruction for those with some playing experience\, and clinic programs for Junior Golfers from ages 4-14 which also includes Golf for Girls.\n\n \n\nWe also offer a wide range of activities for beginner and intermediate golfers at our golf school. The BBGS weekly leagues are a great way to meet new friends and play in a non-competitive setting. Our fun and low-key tournaments give our golfers a way to apply the skills they are learning while out on the golf course itself.\n\n \n\nThe staff at our golf school makes your learning process fun and relaxing. We teach golf\, but more importantly\, we know how to teach people.  We look forward to seeing you at BBGS soon!\n\n \n\nBarrie Bruce Golf Schools has expanded into the Southeastern MA area\, and now offers Beginner Adult and Junior Clinics at Wentworth Hills Country Club in Plainville\, MA.\n\n \n\nOur golf school services Massachusetts ( MA )\, New Hampshire ( NH )\, and surrounding areas.
X-ALT-DESC;FMTTYPE=text/html:Business Over Breakfast &nbsp\;&nbsp\;Barrie Bruce Golf School<br />\nThinking about starting? or need a refresher before the Season starts?<br />\n<strong>WHY GOLF ?</strong><br />\n1. How golf can positively impact your life:<br />\n<ul>\n	<li>\n		Healthy Lifestyle- the physical benefits</li>\n	<li>\n		Positive Mental Outlook- fun and relaxing</li>\n	<li>\n		Personal relationships- building family time</li>\n	<li>\n		Business Relationships- golf as a networking tool</li>\n</ul>\n&nbsp\;<br />\n2. How to start&hellip\;.. the benefits of a structured clinic<br />\n&nbsp\;<br />\n3. Short hands on putting demo<br />\n<br />\n<strong><em>information about Barrie Bruce Golf School</em></strong><br />\nThe Barrie Bruce Golf Schools is a public golf instructional facility located at the Country Club of Billerica\, in Billerica\, Massachusetts ( MA ). We offer a wide range of golf instruction to golfers of all levels and ages. You can choose from group lessons for the new golfer\, private instruction for those with some playing experience\, and clinic programs for Junior Golfers from ages 4-14 which also includes Golf for Girls.<br />\n&nbsp\;<br />\nWe also offer a wide range of activities for beginner and intermediate golfers at our golf school. The BBGS weekly leagues are a great way to meet new friends and play in a non-competitive setting. Our fun and low-key tournaments give our golfers a way to apply the skills they are learning while out on the golf course itself.<br />\n&nbsp\;<br />\nThe staff at our golf school makes your learning process fun and relaxing. We teach golf\, but more importantly\, we know how to teach people.&nbsp\; We look forward to seeing you at BBGS soon!<br />\n&nbsp\;<br />\nBarrie Bruce Golf Schools has expanded into the Southeastern MA area\, and now offers Beginner Adult and Junior Clinics at Wentworth Hills Country Club in Plainville\, MA.<br />\n&nbsp\;<br />\nOur golf school services Massachusetts ( MA )\, New Hampshire ( NH )\, and surrounding areas.<br />\n
LOCATION:at the Chamber offices\, in the Barrows Insurance Agency Conference Room
UID:e.1730.733
SEQUENCE:3
DTSTAMP:20260421T033847Z
URL:https://www.tri-townchamber.org/events/details/bob-why-golf-02-12-2014-733
END:VEVENT

END:VCALENDAR
