BEGIN:VCALENDAR
VERSION:2.0
PRODID:-//ChamberMaster//Event Calendar 2.0//EN
METHOD:PUBLISH
X-PUBLISHED-TTL:P3D
REFRESH-INTERVAL:P3D
CALSCALE:GREGORIAN
BEGIN:VEVENT
DTSTART:20140514T114500Z
DTEND:20140514T130000Z
X-MICROSOFT-CDO-ALLDAYEVENT:FALSE
SUMMARY:BOB: Tips and Tricks to Save Money When You Print
DESCRIPTION:Tips and Tricks to Save money when you Print\n\n \n\nInks and toners are expensive. If you could spend 30 Minutes learning about the costs associated with producing documents\, and how to do it as efficiently and cost effective as possible\, why wouldn't you?\n\n \n\nAxion is a business technology integrator. We help our customers integrate their hardware\, software and service. There is a cost associated with securing\, storing\, producing and moving documents. We help our customers understand and manage these costs\, to operate as efficiently and as cost effective as possible.
X-ALT-DESC;FMTTYPE=text/html:<strong>Tips and Tricks to Save money when you Print</strong><br />\n&nbsp\;<br />\nInks and toners are expensive. If you could spend 30 Minutes learning about the costs associated with producing documents\, and how to do it as efficiently and cost effective as possible\, why wouldn&#39\;t you?<br />\n&nbsp\;<br />\nAxion is a business technology integrator. We help our customers integrate their hardware\, software and service. There is a cost associated with securing\, storing\, producing and moving documents. We help our customers understand and manage these costs\, to operate as efficiently and as cost effective as possible.&nbsp\;
LOCATION:At the Tri-Town Chamber of Commerce in the Barrows Insurance Agency Conference Room
UID:e.1730.1007
SEQUENCE:3
DTSTAMP:20260421T000559Z
URL:https://www.tri-townchamber.org/events/details/bob-tips-and-tricks-to-save-money-when-you-print-05-14-2014-1007
END:VEVENT

END:VCALENDAR
