BEGIN:VCALENDAR
VERSION:2.0
PRODID:-//ChamberMaster//Event Calendar 2.0//EN
METHOD:PUBLISH
X-PUBLISHED-TTL:P3D
REFRESH-INTERVAL:P3D
CALSCALE:GREGORIAN
BEGIN:VEVENT
DTSTART:20140108T124500Z
DTEND:20140108T140000Z
X-MICROSOFT-CDO-ALLDAYEVENT:FALSE
SUMMARY:BOB American Credit Counseling Service
DESCRIPTION:Business Over Breakfast Series\, featuring member American Credit Counseling Service\n\n\n\nAmerican Credit Counseling Service (ACCS) was founded on March 1\, 1988\, with a mission to help consumers\, by providing financial education to those in need. In June\, 1989\, in response to requests from the United Way\, ACCS began providing no-fee one on one credit counseling to United Way clients\, in addition to seminars. ACCS was incorporated as a "not for profit" corporation\, American Credit Counseling Service\, Inc.\, in March\, 1992\, and received its tax exempt IRS 501 c (3) status in August\, 1994. We continue to provide quality Financial Education to the consumer\, and we still conduct seminars and workshops to the public\, free of charge. We maintain a policy of lowering or waiving our fees for consumers\, the majority of which are low income. We staff our nationwide toll-free telephone numbers for consumers that seek free credit and financial advice. We at ACCS feel that we provide services that are essential to all the communities that we touch.
X-ALT-DESC;FMTTYPE=text/html:<span style="font-family:arial\;"><span style="font-size:12px\;">Business Over Breakfast Series\, featuring member American Credit Counseling Service<br />\n<br />\n<em><span style="color: rgb(0\, 0\, 0)\; text-align: justify\;">American Credit Counseling Service (ACCS) was founded on March 1\, 1988\, with a mission to help consumers\, by providing financial education to those in need. In June\, 1989\, in response to requests from the United Way\, ACCS began providing no-fee one on one credit counseling to United Way clients\, in addition to seminars. ACCS was incorporated as a &ldquo\;not for profit&rdquo\; corporation\, American Credit Counseling Service\, Inc.\, in March\, 1992\, and received its tax exempt IRS 501 c (3) status in August\, 1994. We continue to provide quality Financial Education to the consumer\, and we still conduct seminars and workshops to the public\, free of charge. We maintain a policy of lowering or waiving our fees for consumers\, the majority of which are low income. We staff our nationwide toll-free telephone numbers for consumers that seek free credit and financial advice. We at ACCS feel that we provide services that are essential to all the communities that we touch.</span></em></span></span>
LOCATION:at the Tri-Town Chamber of Commerce in the Barrows Insurance Conference Room
UID:e.1730.450
SEQUENCE:3
DTSTAMP:20260421T051135Z
URL:https://www.tri-townchamber.org/events/details/bob-american-credit-counseling-service-01-08-2014-450
END:VEVENT

END:VCALENDAR
