BEGIN:VCALENDAR
VERSION:2.0
PRODID:-//ChamberMaster//Event Calendar 2.0//EN
METHOD:PUBLISH
X-PUBLISHED-TTL:P3D
REFRESH-INTERVAL:P3D
CALSCALE:GREGORIAN
BEGIN:VEVENT
DTSTART:20140320T114500Z
DTEND:20140320T130000Z
X-MICROSOFT-CDO-ALLDAYEVENT:FALSE
SUMMARY:Board of Directors\, held at Covidien
DESCRIPTION:Monthly Meeting for the Board of Directors of the Tri-Town Chamber of Commerce\n\nChamber Ambassadors are Invited to attend this meeting
X-ALT-DESC;FMTTYPE=text/html:Monthly Meeting for the Board of Directors of the Tri-Town Chamber of Commerce<br />\nChamber Ambassadors are Invited to attend this meeting
LOCATION:The March Board Meeting will be held at Covidien at 100 Hampshire Street. Park in the circle driveway and come in and see the receptionist.
UID:e.1730.458
SEQUENCE:3
DTSTAMP:20260421T015123Z
URL:https://www.tri-townchamber.org/events/details/board-of-directors-held-at-covidien-03-20-2014-458
END:VEVENT

END:VCALENDAR
