BEGIN:VCALENDAR
VERSION:2.0
PRODID:-//ChamberMaster//Event Calendar 2.0//EN
METHOD:PUBLISH
X-PUBLISHED-TTL:P3D
REFRESH-INTERVAL:P3D
CALSCALE:GREGORIAN
BEGIN:VEVENT
DTSTART:20150326T114500Z
DTEND:20150326T130000Z
X-MICROSOFT-CDO-ALLDAYEVENT:FALSE
SUMMARY:Board of Directors (at the Holiday Inn)
DESCRIPTION:Board of Directors
X-ALT-DESC;FMTTYPE=text/html:Board of Directors
LOCATION:This month meeting is held at the Holiday Inn
UID:e.1730.1289
SEQUENCE:3
DTSTAMP:20260420T050215Z
URL:https://www.tri-townchamber.org/events/details/board-of-directors-at-the-holiday-inn-03-26-2015-1289
END:VEVENT

END:VCALENDAR
