BEGIN:VCALENDAR
VERSION:2.0
PRODID:-//ChamberMaster//Event Calendar 2.0//EN
METHOD:PUBLISH
X-PUBLISHED-TTL:P3D
REFRESH-INTERVAL:P3D
CALSCALE:GREGORIAN
BEGIN:VEVENT
DTSTART:20141218T124500Z
DTEND:20141218T140000Z
X-MICROSOFT-CDO-ALLDAYEVENT:FALSE
SUMMARY:Board of Directors
DESCRIPTION:Monthly Meeting for the Board of Directors of the Tri-Town Chamber of Commerce
X-ALT-DESC;FMTTYPE=text/html:Monthly Meeting for the Board of Directors of the Tri-Town Chamber of Commerce
LOCATION:at the Chamber\, in the Davis Financial Conference Room
UID:e.1730.465
SEQUENCE:3
DTSTAMP:20260420T100735Z
URL:https://www.tri-townchamber.org/events/details/board-of-directors-12-18-2014-465
END:VEVENT

END:VCALENDAR
