BEGIN:VCALENDAR
VERSION:2.0
PRODID:-//ChamberMaster//Event Calendar 2.0//EN
METHOD:PUBLISH
X-PUBLISHED-TTL:P3D
REFRESH-INTERVAL:P3D
CALSCALE:GREGORIAN
BEGIN:VEVENT
DTSTART:20141016T114500Z
DTEND:20141016T130000Z
X-MICROSOFT-CDO-ALLDAYEVENT:FALSE
SUMMARY:Board of Directors
DESCRIPTION:Monthly Meeting for the Board of Directors of the Tri-Town Chamber of Commerce
X-ALT-DESC;FMTTYPE=text/html:Monthly Meeting for the Board of Directors of the Tri-Town Chamber of Commerce
LOCATION:at the Chamber\, in the Barrows Insurance Agency\, Inc Conference Room
UID:e.1730.463
SEQUENCE:3
DTSTAMP:20260420T132035Z
URL:https://www.tri-townchamber.org/events/details/board-of-directors-10-16-2014-463
END:VEVENT

END:VCALENDAR
