BEGIN:VCALENDAR
VERSION:2.0
PRODID:-//ChamberMaster//Event Calendar 2.0//EN
METHOD:PUBLISH
X-PUBLISHED-TTL:P3D
REFRESH-INTERVAL:P3D
CALSCALE:GREGORIAN
BEGIN:VEVENT
DTSTART:20140918T114500Z
DTEND:20140918T130000Z
X-MICROSOFT-CDO-ALLDAYEVENT:FALSE
SUMMARY:Board of Directors
DESCRIPTION:Monthly Meeting for the Board of Directors of the Tri-Town Chamber of Commerce\n\nThe Chamber's Ambassadors are invited to this meeting
X-ALT-DESC;FMTTYPE=text/html:Monthly Meeting for the Board of Directors of the Tri-Town Chamber of Commerce<br />\nThe Chamber&#39\;s Ambassadors are invited to this meeting
LOCATION:at the Chamber\, in the Barrows Insurance Agency\, Inc Conference Room
UID:e.1730.462
SEQUENCE:3
DTSTAMP:20260420T150243Z
URL:https://www.tri-townchamber.org/events/details/board-of-directors-09-18-2014-462
END:VEVENT

END:VCALENDAR
