BEGIN:VCALENDAR
VERSION:2.0
PRODID:-//ChamberMaster//Event Calendar 2.0//EN
METHOD:PUBLISH
X-PUBLISHED-TTL:P3D
REFRESH-INTERVAL:P3D
CALSCALE:GREGORIAN
BEGIN:VEVENT
DTSTART:20140417T114500Z
DTEND:20140417T130000Z
X-MICROSOFT-CDO-ALLDAYEVENT:FALSE
SUMMARY:Board of Directors
DESCRIPTION:Monthly Meeting for the Board of Directors of the Tri-Town Chamber of Commerce
X-ALT-DESC;FMTTYPE=text/html:Monthly Meeting for the Board of Directors of the Tri-Town Chamber of Commerce
LOCATION:at the Chamber\, in the Barrows Insurance Agency\, Inc Conference Room
UID:e.1730.459
SEQUENCE:3
DTSTAMP:20260421T001025Z
URL:https://www.tri-townchamber.org/events/details/board-of-directors-04-17-2014-459
END:VEVENT

END:VCALENDAR
