BEGIN:VCALENDAR
VERSION:2.0
PRODID:-//ChamberMaster//Event Calendar 2.0//EN
METHOD:PUBLISH
X-PUBLISHED-TTL:P3D
REFRESH-INTERVAL:P3D
CALSCALE:GREGORIAN
BEGIN:VEVENT
DTSTART:20130917T130000Z
DTEND:20130917T190000Z
X-MICROSOFT-CDO-ALLDAYEVENT:FALSE
SUMMARY:Blood Drive at Brigham and Women's/Mass General Health Care Center
DESCRIPTION:Give blood in Foxborough at Brigham and Women's/Mass General Health Care Center at Patriot Place!\n\n\n\nYour donation will help Brigham and Women's and Dana-Farber Cancer Institute restore their blood supplies that dwindle during the summer months! For questions about blood donation: blooddonor@partners.org.\n\n\n\nTo schedule your donation call (508) 718-4311 or via email to JLTancrell@partners.org.
X-ALT-DESC;FMTTYPE=text/html:Give blood in Foxborough at Brigham and Women&#39\;s/Mass General Health Care Center at Patriot Place!<br />\n<br />\nYour donation will&nbsp\;help Brigham and Women&#39\;s and Dana-Farber Cancer Institute&nbsp\;restore their blood supplies that dwindle during the summer months! For questions about blood&nbsp\;donation: blooddonor@partners.org.<br />\n<br />\nTo schedule your donation call (508) 718-4311 or via email to <a href="mailto:JLTancrell@partners.org">JLTancrell@partners.org</a>.<br />\n<br />\n
LOCATION:Brigham and Women's/Mass General Health Care Center 20 Patriot Place Foxborough\, MA
UID:e.1730.391
SEQUENCE:3
DTSTAMP:20260421T114036Z
URL:https://www.tri-townchamber.org/events/details/blood-drive-at-brigham-and-women-s-mass-general-health-care-center-09-17-2013-391
END:VEVENT

END:VCALENDAR
