BEGIN:VCALENDAR
VERSION:2.0
PRODID:-//ChamberMaster//Event Calendar 2.0//EN
METHOD:PUBLISH
X-PUBLISHED-TTL:P3D
REFRESH-INTERVAL:P3D
CALSCALE:GREGORIAN
BEGIN:VEVENT
DTSTART;VALUE=DATE:20130709
DTEND;VALUE=DATE:20130710
TRANSP:TRANSPARENT
X-MICROSOFT-CDO-ALLDAYEVENT:TRUE
SUMMARY:Blood Drive
DESCRIPTION:Blood Drive (pre-registration is required)\, Brigham and Women's/Mass General Health Care Center\, 20 Patriot Place\, Foxborough. For more information and to pre-register: 508-718-4311
X-ALT-DESC;FMTTYPE=text/html:Blood Drive (pre-registration is required)\, Brigham and Women&rsquo\;s/Mass General Health Care Center\, 20 Patriot Place\, Foxborough. For more information and to pre-register: 508-718-4311<br />\n
LOCATION:Brigham and Women's/Mass General Health Care Center\, 20 Patriot Place\, Foxborough
UID:e.1730.159
SEQUENCE:3
DTSTAMP:20260421T143527Z
URL:https://www.tri-townchamber.org/events/details/blood-drive-07-09-2013-159
END:VEVENT

END:VCALENDAR
