BEGIN:VCALENDAR
VERSION:2.0
PRODID:-//ChamberMaster//Event Calendar 2.0//EN
METHOD:PUBLISH
X-PUBLISHED-TTL:P3D
REFRESH-INTERVAL:P3D
CALSCALE:GREGORIAN
BEGIN:VEVENT
DTSTART:20141104T230000Z
DTEND:20141105T000000Z
X-MICROSOFT-CDO-ALLDAYEVENT:FALSE
SUMMARY:Bladder Issues? FREE Informational Session on Treatments
DESCRIPTION:Pelvic Floor Muscle Rehabilitation (PFMR)   A FREE PFMR Informational Session will be held Tuesday\, November 4 from 6   7pm at OB/GYN Associates of Attleboro\, located at 687 North Main Street in Attleboro. PFMR treats a wide range of bladder disorders in a noninvasive\, painless way. Dr. Barbara Stricker\, board certified Obstetrician-Gynecologist\, as well as Barbara Baxter and Mel Delger\, board certified Physician Assistants\, will present the program. There will be light refreshments and a raffle. Call 508-236-8020 to register.
X-ALT-DESC;FMTTYPE=text/html:<strong>Pelvic Floor Muscle Rehabilitation (PFMR) </strong>&ndash\; A <strong>FREE</strong> PFMR Informational Session will be held Tuesday\, November 4 from 6 &ndash\; 7pm at OB/GYN Associates of Attleboro\, located at 687 North Main Street in Attleboro. PFMR treats a wide range of bladder disorders in a noninvasive\, painless way. Dr. Barbara Stricker\, board certified Obstetrician-Gynecologist\, as well as Barbara Baxter and Mel Delger\, board certified Physician Assistants\, will present the program. There will be light refreshments and a raffle. Call <strong>508-236-8020</strong> to register.
LOCATION:OB/GYN Associates of Attleboro 687 North Main Street in Attleboro
UID:e.1730.1082
SEQUENCE:3
DTSTAMP:20260420T113544Z
URL:https://www.tri-townchamber.org/events/details/bladder-issues-free-informational-session-on-treatments-11-04-2014-1082
END:VEVENT

END:VCALENDAR
