BEGIN:VCALENDAR
VERSION:2.0
PRODID:-//ChamberMaster//Event Calendar 2.0//EN
METHOD:PUBLISH
X-PUBLISHED-TTL:P3D
REFRESH-INTERVAL:P3D
CALSCALE:GREGORIAN
BEGIN:VEVENT
DTSTART:20150709T223000Z
DTEND:20150710T000000Z
X-MICROSOFT-CDO-ALLDAYEVENT:FALSE
SUMMARY:Beach Wine Seminar
DESCRIPTION:Join us for a wine seminar on Thursday\, July 9th at 6:30pm.\n\nExpand your palate and wine knowledge at our free\, informative seminar!\n\nLight hors devours will be provided.\n\n\n\n"Beach Wines with John Gedgaudas" -Sangrias to Sauvignons\, wines you can take to the beach
X-ALT-DESC;FMTTYPE=text/html:Join us for a wine seminar on Thursday\, July 9th at 6:30pm.<br />\nExpand your palate and wine knowledge at our free\, informative seminar!<br />\nLight hors devours will be provided.<br />\n<br />\n&quot\;Beach Wines with John Gedgaudas&quot\; -Sangrias to Sauvignons\, wines you can take to the beach<br />\n&nbsp\;
LOCATION:Wines And More 280 School St. Mansfield\, Ma 02048
UID:e.1730.1668
SEQUENCE:3
DTSTAMP:20260419T223542Z
URL:https://www.tri-townchamber.org/events/details/beach-wine-seminar-07-09-2015-1668
END:VEVENT

END:VCALENDAR
