BEGIN:VCALENDAR
VERSION:2.0
PRODID:-//ChamberMaster//Event Calendar 2.0//EN
METHOD:PUBLISH
X-PUBLISHED-TTL:P3D
REFRESH-INTERVAL:P3D
CALSCALE:GREGORIAN
BEGIN:VEVENT
DTSTART:20150512T210000Z
DTEND:20150512T230000Z
X-MICROSOFT-CDO-ALLDAYEVENT:FALSE
SUMMARY:BAH: Rockland Trust. Foxborough Branch
DESCRIPTION:You are invited to attend the April Business After Hours at Rockland Trust at One Mechanic Street\, Foxborough\n\n \n\nThe Chamber's Business After Hour networking events are designed as a great way to meet fellow Chamber members\, to distribute your business cards and/or brochures\, and to make meaningful connections in a comfortable atmosphere. If you have never been to an after hours let us know and we will make sure an Ambassador welcomes you!\nAbout our After Hours Host:\n\nRockland Trust Company is a full-service commercial bank headquartered in Massachusetts and is the sole bank subsidiary of Independent Bank Corp. (NASDAQ: INDB). Rockland Trust offers a wide range of banking\, investment\, and insurance services to businesses and individuals through retail branches\, commercial lending offices\, investment management offices\, and residential lending centers located in Eastern Massachusetts and Rhode Island\, as well as through telephone banking\, mobile banking\, and the Internet. Rockland Trust\, which has been named as one of America's "Best Banks" by Forbes for three consecutive years\, is a Member FDIC and an Equal Housing Lender.
X-ALT-DESC;FMTTYPE=text/html:<p><span style="font-size:14px\;">You are invited to attend the April Business After Hours at <strong>Rockland Trust</strong> at One Mechanic Street\, Foxborough<br />\n&#8203\;<br />\nThe Chamber&#39\;s Business After Hour networking events are designed as a great way to meet fellow Chamber members\, to distribute your business cards and/or brochures\, and to make meaningful connections in a comfortable atmosphere. If you have never been to an after hours let us know and we will make sure an Ambassador welcomes you!</span></p>\n<span style="font-size:14px\;"><em><strong>About our After Hours Host:</strong></em></span><br />\nRockland Trust Company is a full-service commercial bank headquartered in Massachusetts and is the sole bank subsidiary of Independent Bank Corp. (NASDAQ: INDB). Rockland Trust offers a wide range of banking\, investment\, and insurance services to businesses and individuals through retail branches\, commercial lending offices\, investment management offices\, and residential lending centers located in Eastern Massachusetts and Rhode Island\, as well as through telephone banking\, mobile banking\, and the Internet. Rockland Trust\, which has been named as one of America&#39\;s &quot\;Best Banks&quot\; by Forbes for three consecutive years\, is a Member FDIC and an Equal Housing Lender.<br />\n<br />\n&nbsp\;
LOCATION:One Mechanic Street Foxborough MA 02035
UID:e.1730.1580
SEQUENCE:3
DTSTAMP:20260420T015620Z
URL:https://www.tri-townchamber.org/events/details/bah-rockland-trust-foxborough-branch-05-12-2015-1580
END:VEVENT

END:VCALENDAR
