BEGIN:VCALENDAR
VERSION:2.0
PRODID:-//ChamberMaster//Event Calendar 2.0//EN
METHOD:PUBLISH
X-PUBLISHED-TTL:P3D
REFRESH-INTERVAL:P3D
CALSCALE:GREGORIAN
BEGIN:VEVENT
DTSTART:20140522T210000Z
DTEND:20140522T230000Z
X-MICROSOFT-CDO-ALLDAYEVENT:FALSE
SUMMARY:BAH: Norton Country Club to host Business After Hours
DESCRIPTION:You are invited to attend the May Business After Hours at Norton County Club at 188 Oak Street in Norton\, MA \n\n  \n\nThe Chamber's Business After Hour networking events are a great way to meet fellow Chamber members\, to distribute your business cards and/or brochures\, and to make meaningful connections in a comfortable atmosphere. If you have never been to an after hours let us know and we will make sure an Ambassador welcomes you!\n\n\n\n_____________________________\n\n\n\nNORTON COUNTRY CLUB\, the Premier Golf and Country Club in beautiful Southeastern Massachusetts.  From GOLF to WEDDINGS to BANQUETS\n\n \n\nNorton Country Club Specials:\n\nWeekday Golf Special\, Lunch & Crunch\n\n$49.95 Golf\, Cart & Lunch on Tuesdays & Wednesdays\n\nJoin Us For Mother's Day Brunch  Sunday\, May 11\, 2014\n\n \n\nCall - Weddings\, Social Events\, Membership\, Reciprocal Program\, Tournaments Norton Country Club    188 Oak Street\, Norton\, MA  02766     508-285-2400\n\nwww.nortoncountryclub.com
X-ALT-DESC;FMTTYPE=text/html:<span style="color:#696969\;"><span style="font-size:14px\;"><span style="font-family:arial\;"><span style="line-height: 18.200000762939453px\;">You are invited to attend the May Business After Hours at <b>Norton County Club&nbsp\;</b>at&nbsp\;188 Oak Street in&nbsp\;</span><span itemprop="addressLocality" style="line-height: inherit\; margin: 0px\; padding: 0px\; border: none\; border-image-source: none\; border-image-slice: 100% 1 0\; border-image-repeat: stretch\; outline: invert none medium\; background-image: none\; border-collapse: separate\; border-top-left-radius: 0px\; border-top-right-radius: 0px\; border-bottom-right-radius: 0px\; border-bottom-left-radius: 0px\; bottom: auto\; box-sizing: content-box\; clear: none\; content: normal\; direction: inherit\; display: inline\; empty-cells: show\; float: none\; font-style: inherit\; font-variant: inherit\; font-weight: inherit\; left: auto\; letter-spacing: inherit\; max-height: none\; max-width: none\; opacity: 1\; outline-offset: 0px\; overflow: visible\; position: static\; resize: none\; right: auto\; table-layout: auto\; text-align: inherit\; text-indent: inherit\; text-justify: inherit\; text-overflow: clip\; text-transform: inherit\; top: auto\; vertical-align: baseline\; visibility: inherit\; white-space: inherit\; word-break: inherit\; word-spacing: inherit\; word-wrap: inherit\; z-index: auto\; height: auto\; width: auto\; box-shadow: none\;">Norton</span><span style="line-height: 18.200000762939453px\;">\,&nbsp\;</span><span itemprop="addressRegion" style="line-height: inherit\; margin: 0px\; padding: 0px\; border: none\; border-image-source: none\; border-image-slice: 100% 1 0\; border-image-repeat: stretch\; outline: invert none medium\; background-image: none\; border-collapse: separate\; border-top-left-radius: 0px\; border-top-right-radius: 0px\; border-bottom-right-radius: 0px\; border-bottom-left-radius: 0px\; bottom: auto\; box-sizing: content-box\; clear: none\; content: normal\; direction: inherit\; display: inline\; empty-cells: show\; float: none\; font-style: inherit\; font-variant: inherit\; font-weight: inherit\; left: auto\; letter-spacing: inherit\; max-height: none\; max-width: none\; opacity: 1\; outline-offset: 0px\; overflow: visible\; position: static\; resize: none\; right: auto\; table-layout: auto\; text-align: inherit\; text-indent: inherit\; text-justify: inherit\; text-overflow: clip\; text-transform: inherit\; top: auto\; vertical-align: baseline\; visibility: inherit\; white-space: inherit\; word-break: inherit\; word-spacing: inherit\; word-wrap: inherit\; z-index: auto\; height: auto\; width: auto\; box-shadow: none\;">MA&nbsp\;</span><br />\n<span style="line-height: 18.200000762939453px\;">&nbsp\; </span><br />\n<span style="line-height: 18.200000762939453px\;">The Chamber&#39\;s Business After Hour networking events are a great way to meet fellow Chamber members\, to distribute your business cards and/or brochures\, and to make meaningful connections in a comfortable atmosphere. If you have never been to an after hours let us know and we will make sure an Ambassador welcomes you!</span><br />\n<br />\n_____________________________<br />\n<br />\n<strong>NORTON COUNTRY CLUB</strong>\, the Premier Golf and Country Club in beautiful Southeastern Massachusetts. &nbsp\;From GOLF to WEDDINGS to BANQUETS<br />\n&nbsp\;<br />\n<strong><em>Norton Country Club Specials:</em></strong><br />\nWeekday Golf Special\, Lunch &amp\; Crunch<br />\n$49.95 Golf\, Cart &amp\; Lunch on Tuesdays &amp\; Wednesdays<br />\nJoin Us For Mother&#39\;s Day Brunch&nbsp\; Sunday\, May 11\, 2014<br />\n&nbsp\;<br />\nCall - Weddings\, Social Events\, Membership\, Reciprocal Program\, Tournaments&nbsp\;Norton Country Club&nbsp\;&nbsp\;&nbsp\; 188 Oak Street\, Norton\, MA&nbsp\; 02766&nbsp\;&nbsp\;&nbsp\;&nbsp\; 508-285-2400</span></span></span><br />\n<a href="http://www.nortoncountryclub.com">www.nortoncountryclub.com</a><br />\n&nbsp\;<br />\n&nbsp\;
LOCATION:located at: 188 Oak Street Norton\, MA
UID:e.1730.1006
SEQUENCE:3
DTSTAMP:20260420T222550Z
URL:https://www.tri-townchamber.org/events/details/bah-norton-country-club-to-host-business-after-hours-05-22-2014-1006
END:VEVENT

END:VCALENDAR
