BEGIN:VCALENDAR
VERSION:2.0
PRODID:-//ChamberMaster//Event Calendar 2.0//EN
METHOD:PUBLISH
X-PUBLISHED-TTL:P3D
REFRESH-INTERVAL:P3D
CALSCALE:GREGORIAN
BEGIN:VEVENT
DTSTART:20140319T210000Z
DTEND:20140319T230000Z
X-MICROSOFT-CDO-ALLDAYEVENT:FALSE
SUMMARY:BAH: North Easton Savings Bank
DESCRIPTION:The Business After Hour networking events are a great way to meet fellow Chamber members\, to distribute your business cards and/or brochures\, and to make meaningful connections in a comfortable atmosphere.\n\n \n\nMore Information about our Host\n\nNorth Easton Savings Bank serves southeastern Massachusetts with nine offices in Easton\, Norton\, Mansfield\, and North Attleborough. We are a full service\, mutual savings bank\, a member of FDIC\, DIF and an Equal Housing Lender.\n\nAt North Easton Savings Bank\, we are dedicated to excellent customer service. We treat our customers as people\, not numbers and we provide the flexibility to customize solutions to meet individual needs. There is always a friendly professional answering the phone to assist you in any way they can.\n\nMission Statement:\n\nThe mission of North Easton Savings Bank is to provide efficient and progressive financial services to our customers.
X-ALT-DESC;FMTTYPE=text/html:<span style="font-size: 12px\;"><span style="font-family: arial\,sans-serif\;">The Business After Hour networking events are a great way to meet fellow Chamber members\, to distribute your business cards and/or brochures\, and to make meaningful connections in a comfortable atmosphere.</span><br />\n&nbsp\;<br />\n<strong><span style="font-family: arial\,sans-serif\;">More Information about our Host</span></strong></span><br />\nNorth Easton Savings Bank serves southeastern Massachusetts with nine offices in Easton\, Norton\, Mansfield\, and North Attleborough. We are a full service\, mutual savings bank\, a member of FDIC\, DIF and an Equal Housing Lender.<br />\nAt North Easton Savings Bank\, we are dedicated to excellent customer service. We treat our customers as people\, not numbers and we provide the flexibility to customize solutions to meet individual needs. There is always a friendly professional answering the phone to assist you in any way they can.<br />\n<strong>Mission Statement:</strong><br />\nThe mission of North Easton Savings Bank is to provide efficient and progressive financial services to our customers.<br />\n<span style="font-size: 12px\;"><strong><span style="font-family: arial\,sans-serif\;">&nbsp\;</span></strong></span><br />\n&nbsp\;
LOCATION:172 Mansfield Avenue Norton\, MA 02766
UID:e.1730.756
SEQUENCE:3
DTSTAMP:20260421T015122Z
URL:https://www.tri-townchamber.org/events/details/bah-north-easton-savings-bank-03-19-2014-756
END:VEVENT

END:VCALENDAR
