BEGIN:VCALENDAR
VERSION:2.0
PRODID:-//ChamberMaster//Event Calendar 2.0//EN
METHOD:PUBLISH
X-PUBLISHED-TTL:P3D
REFRESH-INTERVAL:P3D
CALSCALE:GREGORIAN
BEGIN:VEVENT
DTSTART:20150825T210000Z
DTEND:20150825T230000Z
X-MICROSOFT-CDO-ALLDAYEVENT:FALSE
SUMMARY:BAH - Networking at Norton Country Club
DESCRIPTION:You are invited to attend the August Business After Hours at the beautiful  Norton Country Club at 188 Oak Street in Norton. Join us for an informal social where business people get together\, exchange ideas and develop new relationships. These monthly networking programs are sponsored by and hosted at Tri-Town Chamber Member establishments. \n\n \n\nBusiness After Hours facilitates the development of personal relationships which enables individuals to stand out and rise above today's multitude of advertising white noise. Networking is one of the most affordable means of marketing resulting in invaluable personal referrals and word-of-mouth advertising. So don't hesitate! Bring plenty of business cards and your winning handshake to the next Business After Hours and develop your own synergistic group of business contacts!\n\n \n\nReasons why networking and Business After Hours can make a difference for your business:\n\n\n	Business people are more inclined to do business with people they know.\n	Business people are more inclined to refer friends\, family and customers to someone they know.\n	Business After Hours provides an excellent opportunity to get your company name\, products and services out there   to make yourself and your company known.\n	Business After Hours is a great way to meet potential customers and increase your customer base.\n	Business After Hours is an easy way to find the services you need or have been looking for right in your own backyard.\n	Business After Hours are set in a relaxed\, fun atmosphere.\n\n  \n\n \n\nAbout our After Hours Host:  Norton Country Club is a semi-private Golf and Country Club offering special amenities to our Members. As a member you will enjoy our wonderful facility offering the finest golf in the area and an expertly maintained course.  Norton Members enjoy:\n\n\n	Select tee times on Weekends & Holidays (7am-12pm)\n	Member Leagues\n	Member Tournaments\n	Men's and Ladies locker room facilities\n	Cozy Grille Room and Pub with fireplace and patio \n\n Reciprocal Golf Privileges  As a terrific member benefit\, all Single and Couple Full Golf Members are eligible to participate in our Exclusive Reciprocal Golf Privileges Program with four additional Country Clubs.\n\nPro Shop Our Pro-Shop features a variety of the latest equipment and products suited for your needs.  Golf Professional\, Jeff Martin also offers lessons and equipment advice.\n\nSwimming Pool  Norton Country Club also offers Members a relaxing swimming pool facility to be enjoyed family members and golfers alike.\n\n \n\nPlease give us a call for more information or to tour our Country Club at (508) 285-2400
X-ALT-DESC;FMTTYPE=text/html:<span style="font-size:14px\;"><span style="font-family:arial\;">You are invited to attend the August Business After Hours at the beautiful &nbsp\;<strong>Norton Country Club</strong> at 188 Oak Street in Norton. Join us for an informal social where business people get together\, exchange ideas and develop new relationships. These monthly networking programs are sponsored by and hosted at Tri-Town Chamber Member establishments.&nbsp\;<br />\n&nbsp\;<br />\nBusiness After Hours facilitates the development of personal relationships which enables individuals to stand out and rise above today&rsquo\;s multitude of advertising white noise. Networking is one of the most affordable means of marketing resulting in invaluable personal referrals and word-of-mouth advertising.&nbsp\;So don&rsquo\;t hesitate! Bring plenty of business cards and your winning handshake to the next Business After Hours and develop your own synergistic group of business contacts!<br />\n&nbsp\;<br />\nReasons why networking and Business After Hours can make a difference for your business:</span></span>\n\n<ul>\n	<li><span style="font-size:14px\;"><span style="font-family:arial\;">Business people are more inclined to do business with people they know.</span></span></li>\n	<li><span style="font-size:14px\;"><span style="font-family:arial\;">Business people are more inclined to refer friends\, family and customers to someone they know.</span></span></li>\n	<li><span style="font-size:14px\;"><span style="font-family:arial\;">Business After Hours provides an excellent opportunity to get your company name\, products and services out there &ndash\; to make yourself and your company known.</span></span></li>\n	<li><span style="font-size:14px\;"><span style="font-family:arial\;">Business After Hours is a great way to meet potential customers and increase your customer base.</span></span></li>\n	<li><span style="font-size:14px\;"><span style="font-family:arial\;">Business After Hours is an easy way to find the services you need or have been looking for right in your own backyard.</span></span></li>\n	<li><span style="font-size:14px\;"><span style="font-family:arial\;">Business After Hours are set in a relaxed\, fun atmosphere.</span></span></li>\n</ul>\n<span style="font-size:14px\;"><span style="font-family:arial\;"> &nbsp\;<br />\n&nbsp\;<br />\n<em>About our After Hours Host: &nbsp\;</em><strong>Norton Country Club</strong> is a semi-private Golf and Country Club offering special amenities to our Members. As a member you will enjoy our wonderful facility offering the finest golf in the area and an expertly maintained course.&nbsp\; Norton Members enjoy:</span></span>\n\n<ul>\n	<li><span style="font-size:14px\;"><span style="font-family:arial\;">Select tee times on Weekends &amp\; Holidays (7am-12pm)</span></span></li>\n	<li><span style="font-size:14px\;"><span style="font-family:arial\;">Member Leagues</span></span></li>\n	<li><span style="font-size:14px\;"><span style="font-family:arial\;">Member Tournaments</span></span></li>\n	<li><span style="font-size:14px\;"><span style="font-family:arial\;">Men&#39\;s and Ladies locker room facilities</span></span></li>\n	<li><span style="font-size:14px\;"><span style="font-family:arial\;">Cozy Grille Room and Pub with fireplace and patio&nbsp\;</span></span></li>\n</ul>\n<span style="font-size:14px\;"><span style="font-family:arial\;"> <strong>Reciprocal Golf Privileges &nbsp\;</strong>As a terrific member benefit\, all Single and Couple Full Golf Members are eligible to participate in our Exclusive Reciprocal Golf Privileges Program with four additional Country Clubs.<br />\n<strong>Pro Shop</strong>&nbsp\;Our Pro-Shop features a variety of the latest equipment and products suited for your needs.&nbsp\; Golf Professional\, Jeff Martin also offers lessons and equipment advice.<br />\n<strong>Swimming Pool &nbsp\;</strong>Norton Country Club also offers Members a relaxing swimming pool facility to be enjoyed family members and golfers alike.<br />\n&nbsp\;<br />\nPlease give us a call for more information or to tour our Country Club at (508) 285-2400&nbsp\;</span></span><br />\n&nbsp\;
LOCATION:188 Oak Street Norton MA
UID:e.1730.1671
SEQUENCE:3
DTSTAMP:20260419T224001Z
URL:https://www.tri-townchamber.org/events/details/bah-networking-at-norton-country-club-08-25-2015-1671
END:VEVENT

END:VCALENDAR
