BEGIN:VCALENDAR
VERSION:2.0
PRODID:-//ChamberMaster//Event Calendar 2.0//EN
METHOD:PUBLISH
X-PUBLISHED-TTL:P3D
REFRESH-INTERVAL:P3D
CALSCALE:GREGORIAN
BEGIN:VEVENT
DTSTART:20151110T220000Z
DTEND:20151111T000000Z
X-MICROSOFT-CDO-ALLDAYEVENT:FALSE
SUMMARY:BAH - Networking at North Easton Savings Bank
DESCRIPTION:You are invited to attend the November Business After Hours at North Easton Savings Bank at 71 Copeland Drive in Mansfield. Join us for an informal social where business people get together\, exchange ideas and develop new relationships. These monthly networking programs are sponsored by and hosted at Tri-Town Chamber Member establishments.\n\n \n\nBusiness After Hours facilitates the development of personal relationships which enables individuals to stand out and rise above today's multitude of advertising white noise. Networking is one of the most affordable means of marketing resulting in invaluable personal referrals and word-of-mouth advertising.\n\nSo don't hesitate! Bring plenty of business cards and your winning handshake to the next Business After Hours and develop your own synergistic group of business contacts!\n\n \n\nReasons why networking and Business After Hours can make a difference for your business:\n\n\n	Business people are more inclined to do business with people they know.\n	Business people are more inclined to refer friends\, family and customers to someone they know.\n	Business After Hours provides an excellent opportunity to get your company name\, products and services out there   to make yourself and your company known.\n	Business After Hours is a great way to meet potential customers and increase your customer base.\n	Business After Hours is an easy way to find the services you need or have been looking for right in your own backyard.\n	Business After Hours are set in a relaxed\, fun atmosphere.\n\n \n\n \n\nAbout our After Hours Host:  \n\nNorth Easton Savings Bank serves southeastern Massachusetts with nine offices in Easton\, Norton\, Mansfield\, and North Attleborough. We are a full service\, mutual savings bank\, a member of FDIC\, DIF and an Equal Housing Lender.\n\nAt North Easton Savings Bank\, we are dedicated to excellent customer service. We treat our customers as people\, not numbers and we provide the flexibility to customize solutions to meet individual needs. There is always a friendly professional answering the phone to assist you in any way they can.\n\nMission Statement:\n\nThe mission of North Easton Savings Bank is to provide efficient and progressive financial services to our customers.
X-ALT-DESC;FMTTYPE=text/html:<span style="font-size:14px\;"><font face="arial">You are invited to attend the <strong>November</strong> Business After Hours at</font><span style="font-size: 16px\;"><strong><font face="arial">&nbsp\;</font>North Easton Savings Bank</strong></span></span><span style="font-size:14px\;"><span style="font-family:arial\;">&nbsp\;at 71 Copeland Drive in Mansfield. Join us for an informal social where business people get together\, exchange ideas and develop new relationships. These monthly networking programs are sponsored by and hosted at Tri-Town Chamber Member establishments.<br />\n&nbsp\;<br />\nBusiness After Hours facilitates the development of personal relationships which enables individuals to stand out and rise above today&rsquo\;s multitude of advertising white noise. Networking is one of the most affordable means of marketing resulting in invaluable personal referrals and word-of-mouth advertising.<br />\nSo don&rsquo\;t hesitate! Bring plenty of business cards and your winning handshake to the next Business After Hours and develop your own synergistic group of business contacts!<br />\n&nbsp\;<br />\nReasons why networking and Business After Hours can make a difference for your business:</span></span>\n\n<ul>\n	<li><span style="font-size:14px\;"><span style="font-family:arial\;">Business people are more inclined to do business with people they know.</span></span></li>\n	<li><span style="font-size:14px\;"><span style="font-family:arial\;">Business people are more inclined to refer friends\, family and customers to someone they know.</span></span></li>\n	<li><span style="font-size:14px\;"><span style="font-family:arial\;">Business After Hours provides an excellent opportunity to get your company name\, products and services out there &ndash\; to make yourself and your company known.</span></span></li>\n	<li><span style="font-size:14px\;"><span style="font-family:arial\;">Business After Hours is a great way to meet potential customers and increase your customer base.</span></span></li>\n	<li><span style="font-size:14px\;"><span style="font-family:arial\;">Business After Hours is an easy way to find the services you need or have been looking for right in your own backyard.</span></span></li>\n	<li><span style="font-size:14px\;"><span style="font-family:arial\;">Business After Hours are set in a relaxed\, fun atmosphere.</span></span></li>\n</ul>\n<span style="font-size:14px\;"><span style="font-family:arial\;">&nbsp\;<br />\n&nbsp\;<br />\n<em>About our After Hours Host: &nbsp\;</em></span></span><br />\n<em>North Easton Savings Bank serves southeastern Massachusetts with nine offices in Easton\, Norton\, Mansfield\, and North Attleborough. We are a full service\, mutual savings bank\, a member of FDIC\, DIF and an Equal Housing Lender.<br />\nAt North Easton Savings Bank\, we are dedicated to excellent customer service. We treat our customers as people\, not numbers and we provide the flexibility to customize solutions to meet individual needs. There is always a friendly professional answering the phone to assist you in any way they can.<br />\nMission Statement:<br />\nThe mission of North Easton Savings Bank is to provide efficient and progressive financial services to our customers.</em><br />\n&nbsp\;
LOCATION:71 Copeland Drive Mansfield MA
UID:e.1730.1699
SEQUENCE:3
DTSTAMP:20260419T154655Z
URL:https://www.tri-townchamber.org/events/details/bah-networking-at-north-easton-savings-bank-11-10-2015-1699
END:VEVENT

END:VCALENDAR
