BEGIN:VCALENDAR
VERSION:2.0
PRODID:-//ChamberMaster//Event Calendar 2.0//EN
METHOD:PUBLISH
X-PUBLISHED-TTL:P3D
REFRESH-INTERVAL:P3D
CALSCALE:GREGORIAN
BEGIN:VEVENT
DTSTART:20160126T220000Z
DTEND:20160127T000000Z
X-MICROSOFT-CDO-ALLDAYEVENT:FALSE
SUMMARY:BAH - Networking at Mangia Neapolitan Pizzeria
DESCRIPTION:You are invited to attend the January Business After Hours at Mangia Neapolitan Pizzeria at 288 East Main Street in Norton. Join us for an informal social where business people get together\, exchange ideas and develop new relationships. These monthly networking programs are sponsored by and hosted at Tri-Town Chamber Member establishments.\n\n \n\nBusiness After Hours facilitates the development of personal relationships which enables individuals to stand out and rise above today's multitude of advertising white noise. Networking is one of the most affordable means of marketing resulting in invaluable personal referrals and word-of-mouth advertising.\n\nSo don't hesitate! Bring plenty of business cards and your winning handshake to the next Business After Hours and develop your own synergistic group of business contacts!\n\n \n\nReasons why networking and Business After Hours can make a difference for your business:\n\n\n	Business people are more inclined to do business with people they know.\n	Business people are more inclined to refer friends\, family and customers to someone they know.\n	Business After Hours provides an excellent opportunity to get your company name\, products and services out there   to make yourself and your company known.\n	Business After Hours is a great way to meet potential customers and increase your customer base.\n	Business After Hours is an easy way to find the services you need or have been looking for right in your own backyard.\n	Business After Hours are set in a relaxed\, fun atmosphere.\n\n \n\n \n\nAbout our After Hours Host:\n\nThe Mangia Pizza experience was founded in 2003 with the opening of our first restaurant in Brookline\, Massachusetts\, ignited by the mission to revolutionize the way people think about\, buy and enjoy their pizza. With an unwavering focus and commitment to healthy eating and pure deliciousness\, the secret to Mangia's success is our award-winning\, whole- wheat pizza dough\, milled to exacting specifications. The result is a silky\, whole-wheat pizza crust that Mangia's patrons describe as "heavenly\," and serves as the perfect foundation for a variety of custom-crafted pies that feature only the freshest meat and vegetable toppings\, all-natural\, delectable sauces\, and 100% natural mozzarella cheese with no binders or anti-caking agents.
X-ALT-DESC;FMTTYPE=text/html:<span style="font-size:14px\;"><span style="font-family:arial\;">You are invited to attend the January Business After Hours at<span style="font-size:16px\;"><strong> </strong></span></span></span><span style="font-size:16px\;"><strong>Mangia Neapolitan Pizzeria</strong></span><span style="font-size:14px\;"><span style="font-family:arial\;"> at 288 East Main Street in Norton. Join us for an informal social where business people get together\, exchange ideas and develop new relationships. These monthly networking programs are sponsored by and hosted at Tri-Town Chamber Member establishments.<br />\n&nbsp\;<br />\nBusiness After Hours facilitates the development of personal relationships which enables individuals to stand out and rise above today&rsquo\;s multitude of advertising white noise. Networking is one of the most affordable means of marketing resulting in invaluable personal referrals and word-of-mouth advertising.<br />\nSo don&rsquo\;t hesitate! Bring plenty of business cards and your winning handshake to the next Business After Hours and develop your own synergistic group of business contacts!<br />\n&nbsp\;<br />\nReasons why networking and Business After Hours can make a difference for your business:</span></span>\n\n<ul>\n	<li><span style="font-size:14px\;"><span style="font-family:arial\;">Business people are more inclined to do business with people they know.</span></span></li>\n	<li><span style="font-size:14px\;"><span style="font-family:arial\;">Business people are more inclined to refer friends\, family and customers to someone they know.</span></span></li>\n	<li><span style="font-size:14px\;"><span style="font-family:arial\;">Business After Hours provides an excellent opportunity to get your company name\, products and services out there &ndash\; to make yourself and your company known.</span></span></li>\n	<li><span style="font-size:14px\;"><span style="font-family:arial\;">Business After Hours is a great way to meet potential customers and increase your customer base.</span></span></li>\n	<li><span style="font-size:14px\;"><span style="font-family:arial\;">Business After Hours is an easy way to find the services you need or have been looking for right in your own backyard.</span></span></li>\n	<li><span style="font-size:14px\;"><span style="font-family:arial\;">Business After Hours are set in a relaxed\, fun atmosphere.</span></span></li>\n</ul>\n<span style="font-size:14px\;"><span style="font-family:arial\;">&nbsp\;<br />\n&nbsp\;<br />\n<span style="font-size:16px\;"><em>About our After Hours Host:</em></span><br />\n<em><span class="expectation" style="box-sizing: border-box\; color: rgb(102\, 102\, 102)\; line-height: 24px\;">T</span><span style="color: rgb(102\, 102\, 102)\; line-height: 24px\;">he Mangia Pizza experience was founded in 2003 with the opening of our first restaurant in Brookline\, Massachusetts\, ignited by the mission to revolutionize the way people think about\, buy and enjoy their pizza. With an unwavering focus and commitment to healthy eating and pure deliciousness\, the secret to Mangia&rsquo\;s success is our award-winning\, whole- wheat pizza dough\, milled to exacting specifications. The result is a silky\, whole-wheat pizza crust that Mangia&rsquo\;s patrons describe as &ldquo\;heavenly\,&rdquo\; and serves as the perfect foundation for a variety of custom-crafted pies that feature only the freshest meat and vegetable toppings\, all-natural\, delectable sauces\, and 100% natural mozzarella cheese with no binders or anti-caking agents.</span> &nbsp\;</em></span></span>
LOCATION:288 East Main Street Norton MA
UID:e.1730.1698
SEQUENCE:3
DTSTAMP:20260419T124627Z
URL:https://www.tri-townchamber.org/events/details/bah-networking-at-mangia-neapolitan-pizzeria-01-26-2016-1698
END:VEVENT

END:VCALENDAR
