BEGIN:VCALENDAR
VERSION:2.0
PRODID:-//ChamberMaster//Event Calendar 2.0//EN
METHOD:PUBLISH
X-PUBLISHED-TTL:P3D
REFRESH-INTERVAL:P3D
CALSCALE:GREGORIAN
BEGIN:VEVENT
DTSTART:20141119T223000Z
DTEND:20141120T003000Z
X-MICROSOFT-CDO-ALLDAYEVENT:FALSE
SUMMARY:BAH: Mansfield Bank - Mansfield
DESCRIPTION:You are invited to attend the November Business After Hours at Mansfield Bank at 80 North Main Street\, Mansfield.\n\n\n\nThe Chamber's Business After Hour networking events are a great way to meet fellow Chamber members\, to distribute your business cards and/or brochures\, and to make meaningful connections in a comfortable atmosphere. If you have never been to an after hours let us know and we will make sure an Ambassador welcomes you!\n\n\n\nHelp those in need this Fall by bringing a canned good to Mansfield Bank\, all donations will benefit the Mansfield Food Panty "Our Daily Bread"\n\n \n\nAbout Our Host  Mansfield Bank is a full-service Community Bank with Branches in Mansfield\, North Attleboro/Plainville\, Norton\, West Bridgewater\, & Easton\n\nMember FDIC\, Member SIF and Equal Housing Lender
X-ALT-DESC;FMTTYPE=text/html:<span style="font-size:14px\;">You are invited to attend the November Business After Hours at <strong>Mansfield Bank</strong> at 80 North Main Street\, Mansfield.<br />\n<br />\nThe Chamber&#39\;s Business After Hour networking events are a great way to meet fellow Chamber members\, to distribute your business cards and/or brochures\, and to make meaningful connections in a comfortable atmosphere. If you have never been to an after hours let us know and we will make sure an Ambassador welcomes you!<br />\n<br />\nHelp those in need this Fall by bringing a canned good to Mansfield Bank\, all donations will benefit the Mansfield Food Panty &quot\;Our Daily Bread&quot\;<br />\n&nbsp\;<br />\n<em>About Our Host&nbsp\; Mansfield Bank is a full-service Community Bank with Branches in Mansfield\, North </em>Attleboro/Plainville\, Norton\, West Bridgewater\, &amp\; Easton<br />\nMember FDIC\, Member SIF and Equal Housing Lender</span><br />\n&nbsp\;
LOCATION:Mansfield Bank 80 North Main Street\, Mansfield
UID:e.1730.1065
SEQUENCE:3
DTSTAMP:20260420T113608Z
URL:https://www.tri-townchamber.org/events/details/bah-mansfield-bank-mansfield-11-19-2014-1065
END:VEVENT

END:VCALENDAR
