BEGIN:VCALENDAR
VERSION:2.0
PRODID:-//ChamberMaster//Event Calendar 2.0//EN
METHOD:PUBLISH
X-PUBLISHED-TTL:P3D
REFRESH-INTERVAL:P3D
CALSCALE:GREGORIAN
BEGIN:VEVENT
DTSTART:20140917T210000Z
DTEND:20140917T230000Z
X-MICROSOFT-CDO-ALLDAYEVENT:FALSE
SUMMARY:BAH: Highland-March Office Business Centers
DESCRIPTION:Business After Hour \n\nThis event will also celebrate Highland-March\, Mansfield's 10 years of business.  Appetizers\, cupcakes and soft drinks will be offered.  Beer and wine will be provided via cash bar.  It will be a great opportunity to network with other chamber members\, business people and political persons from the surrounding communities. There will also be a red carpet photo-op upon entry. \n\n\n\nIn addition\, the event will provide people with an opportunity to help us give back.  Since Highland-March is a woman-owned business who is celebrating success\, they would like to assist other women in achieving success for themselves\, which is why they will also be using this opportunity to raise money for Dress For Success Boston. The mission at Dress for Success Boston is to promote the economic independence of disadvantaged women by providing professional attire\, a network of support and the career development tools to help women thrive in work and in life. There are a few ways that people can tribute: the first is by bringing items for donation - at this time\, they are specifically looking for accessories including\, but not limited to\, scarves\, handbags\, jewelry\, etc. The second is by providing a monetary contribution via cash or check. \n\nFinally\, if someone would like to donate\, but is unable to attend the event or it is simply more convenient\, they can donate online at http://www.gofundme.com/bj19sc. \n\n(Please note that 90.75% of all donations made through this web site will be submitted to Dress for Success Boston\; GoFundMe collects a 5% fee and a third-party affiliate collects 4.25% for payment processing.) Highland-March will match the total monetary donations received up to $1\,000.00.  All donations are tax deductible.
X-ALT-DESC;FMTTYPE=text/html:Business After Hour&nbsp\;<br />\nThis event will also celebrate<strong> Highland-March\, Mansfield&#39\;s</strong> 10 years of business.&nbsp\; Appetizers\, cupcakes and soft drinks will be offered.&nbsp\; Beer and wine will be provided via cash bar.&nbsp\; It will be a great opportunity to network with other chamber members\, business people and political persons from the surrounding communities. There will also be a red carpet photo-op upon entry.&nbsp\;<br />\n<br />\nIn addition\, the event will provide people with an opportunity to help us give back.&nbsp\; Since Highland-March is a woman-owned business who is celebrating success\, they would like to assist other women in achieving success for themselves\, which is why they will also be using this opportunity to raise money for Dress For Success Boston. The mission at Dress for Success Boston is to promote the economic independence of disadvantaged women by providing professional attire\, a network of support and the career development tools to help women thrive in work and in life. There are a few ways that people can tribute: the first is by bringing items for donation - at this time\, they are specifically looking for accessories including\, but not limited to\, scarves\, handbags\, jewelry\, etc. The second is by providing a monetary contribution via cash or check.&nbsp\;<br />\nFinally\, if someone would like to donate\, but is unable to attend the event or it is simply more convenient\, they can donate online at <a href="http://www.gofundme.com/bj19sc">http://www.gofundme.com/bj19sc</a>.&nbsp\;<br />\n<span style="font-size:12px\;"><em>(Please note that 90.75% of all donations made through this web site will be submitted to Dress for Success Boston\; GoFundMe collects a 5% fee and a third-party affiliate collects 4.25% for payment processing.) Highland-March will match the total monetary donations received up to $1\,000.00.&nbsp\; All donations are tax deductible.</em></span>
LOCATION:Highland-March Office Business Centers 20 Cabot Blvd. Suite 300
UID:e.1730.1032
SEQUENCE:3
DTSTAMP:20260420T150425Z
URL:https://www.tri-townchamber.org/events/details/bah-highland-march-office-business-centers-09-17-2014-1032
END:VEVENT

END:VCALENDAR
