BEGIN:VCALENDAR
VERSION:2.0
PRODID:-//ChamberMaster//Event Calendar 2.0//EN
METHOD:PUBLISH
X-PUBLISHED-TTL:P3D
REFRESH-INTERVAL:P3D
CALSCALE:GREGORIAN
BEGIN:VEVENT
DTSTART:20150415T210000Z
DTEND:20150415T230000Z
X-MICROSOFT-CDO-ALLDAYEVENT:FALSE
SUMMARY:BAH: Hannon Electric
DESCRIPTION:You are invited to attend the April Business After Hours at Hannon Electric at 117 Eastman St.\, South Easton MA (right over the Mansfield line on Rte 106)\n\n \n\nThis is a joint after hours event with the Easton Chamber of Commerce\, so there will be plenty of networking!  Also as a Special treat - Hannon will have a 5-piece FUN band "Fuzzy and the Fuzztones" and will be having a raffle drawing for a get-away to York Harbor Inn in York\, ME\n\n \n\nThe Chamber's Business After Hour networking events are designed as a great way to meet fellow Chamber members\, to distribute your business cards and/or brochures\, and to make meaningful connections in a comfortable atmosphere. If you have never been to an after hours let us know and we will make sure an Ambassador welcomes you!\n\n\nAbout our After Hours Host:\n\nHannon Electric\, Inc. is a full-service electrical contractor serving New England and the East Coast. Our Service and Construction team has over 100 years of combined electrical experience in all phases of the industry. Our design-build experience integrates the "Going Green" building and energy conservation requirements. At Hannon Electric we stand by our work with a one year guarantee and provide 24 hour service for all of your emergency needs. We're on time\, on budget and we make CUSTOMER SATISFACTION our #1 PRIORITY.
X-ALT-DESC;FMTTYPE=text/html:<p><span style="font-size:14px\;">You are invited to attend the April Business After Hours at <strong>Hannon Electric</strong> at 117 Eastman St.\, South Easton MA (right over the Mansfield line on Rte 106)<br />\n&nbsp\;<br />\nThis is a joint after hours event with the Easton Chamber of Commerce\, so there will be plenty of networking!&nbsp\; Also as a Special treat - Hannon will have a 5-piece FUN band &quot\;Fuzzy and the Fuzztones&quot\; and will be having a raffle drawing for a get-away to York Harbor Inn in York\, ME<br />\n&#8203\;<br />\nThe Chamber&#39\;s Business After Hour networking events are designed as a great way to meet fellow Chamber members\, to distribute your business cards and/or brochures\, and to make meaningful connections in a comfortable atmosphere. If you have never been to an after hours let us know and we will make sure an Ambassador welcomes you!</span></p>\n<br />\n<span style="font-size:14px\;"><em><strong>About our After Hours Host:</strong><br />\n<span style="font-family:calibri\,sans-serif\;">Hannon Electric\, Inc. is a full-service electrical contractor serving New England and the East Coast. Our Service and Construction team has over 100 years of combined electrical experience in all phases of the industry. Our design-build experience integrates the &ldquo\;Going Green&rdquo\; building and energy conservation requirements. At Hannon Electric we stand by our work with a one year guarantee and provide 24 hour service for all of your emergency needs. We&rsquo\;re on time\, on budget and we make CUSTOMER SATISFACTION our #1 PRIORITY. &nbsp\;</span></em></span><br />\n&nbsp\;
LOCATION:117 Eastman St.\, South Easton MA (right over the Mansfield line on Rte 106)
UID:e.1730.1238
SEQUENCE:3
DTSTAMP:20260420T032408Z
URL:https://www.tri-townchamber.org/events/details/bah-hannon-electric-04-15-2015-1238
END:VEVENT

END:VCALENDAR
