BEGIN:VCALENDAR
VERSION:2.0
PRODID:-//ChamberMaster//Event Calendar 2.0//EN
METHOD:PUBLISH
X-PUBLISHED-TTL:P3D
REFRESH-INTERVAL:P3D
CALSCALE:GREGORIAN
BEGIN:VEVENT
DTSTART:20140114T220000Z
DTEND:20140115T000000Z
X-MICROSOFT-CDO-ALLDAYEVENT:FALSE
SUMMARY:BAH: Cindi's Diamond & Jewelry Gallery
DESCRIPTION:The Chamber's Business After Hour networking events are a great way to meet fellow Chamber members\, to distribute your business cards and/or brochures\, and to make meaningful connections in a comfortable atmosphere.\n\n \n\nMore Information about Cindi's Diamond & Jewelry Gallery\n\n"At Cindi's Diamond & Jewelry Gallery\, we continually strive to make your experiences as rewarding and fulfilling as possible\, whether it is purchasing a diamond engagement ring\, designing a custom pendant for a special occasion\, or repairing and cleaning your most treasured precious jewelry items. We not only carry the world famous jewelry designer brands\, we also design\, make and repair jewelry here at the store. Over the years\, our staff has become quite proficient in all these areas\, and we continue to provide our customers with a unique experience from start to finish. We use State-of-the-Art equipment to work on our jewelry whether it is a repair or a custom design. Almost all of our work is done on premises.\n\n \n\nFor more than 20 years\, we have been providing high quality platinum\, gold and silver jewelry\, precious gemstones\, diamond engagement rings\, wedding rings\, anniversary rings\, earrings\, necklaces\, pendants\, charms\, bracelets\, watches and specialty items to customers all over the United States."
X-ALT-DESC;FMTTYPE=text/html:The Chamber&#39\;s Business After Hour networking events are a great way to meet fellow Chamber members\, to distribute your business cards and/or brochures\, and to make meaningful connections in a comfortable atmosphere.<br />\n&nbsp\;<br />\n<strong>More Information about Cindi&#39\;s Diamond &amp\; Jewelry Gallery</strong><br />\n&ldquo\;At Cindi&#39\;s Diamond &amp\; Jewelry Gallery\, we continually strive to make your experiences as rewarding and fulfilling as possible\, whether it is purchasing a diamond engagement ring\, designing a custom pendant for a special occasion\, or repairing and cleaning your most treasured precious jewelry items. We not only carry the world famous jewelry designer brands\, we also design\, make and repair jewelry here at the store. Over the years\, our staff has become quite proficient in all these areas\, and we continue to provide our customers with a unique experience from start to finish. We use State-of-the-Art equipment to work on our jewelry whether it is a repair or a custom design. Almost all of our work is done on premises.<br />\n&nbsp\;<br />\nFor more than 20 years\, we have been providing high quality platinum\, gold and silver jewelry\, precious gemstones\, diamond engagement rings\, wedding rings\, anniversary rings\, earrings\, necklaces\, pendants\, charms\, bracelets\, watches and specialty items to customers all over the United States.&rdquo\;<br />\n
LOCATION:40 Central Street in Foxborough
UID:e.1730.442
SEQUENCE:3
DTSTAMP:20260421T052014Z
URL:https://www.tri-townchamber.org/events/details/bah-cindi-s-diamond-jewelry-gallery-01-14-2014-442
END:VEVENT

END:VCALENDAR
