BEGIN:VCALENDAR
VERSION:2.0
PRODID:-//ChamberMaster//Event Calendar 2.0//EN
METHOD:PUBLISH
X-PUBLISHED-TTL:P3D
REFRESH-INTERVAL:P3D
CALSCALE:GREGORIAN
BEGIN:VEVENT
DTSTART:20150916T210000Z
DTEND:20150916T230000Z
X-MICROSOFT-CDO-ALLDAYEVENT:FALSE
SUMMARY:BAH: BSE Print Solutions\, Mansfield
DESCRIPTION:You are invited to attend the September Business After Hours at Bay State Envelope/BSE Print Solutions at 440 Chauncy Street in Mansfield. Please join us for cocktails\, some great Hors d'oeuvres and a live demo of our capabilities.  WE WILL ALSO BE RAFFLING OFF TWO SETS OF RED SOX TICKETS AND YOUR CHANCE TO SEE BIG PAPI HIT HIS 500TH HOME RUN. \n\n\n\nThe Chamber's Business After Hour networking events are designed as a great way to meet fellow Chamber members\, to distribute your business cards and/or brochures\, and to make meaningful connections in a comfortable atmosphere. If you have never been to an after hours let us know and we will make sure an Ambassador welcomes you!\n\n\n\nAbout our After Hours Host:\n\nBay State Envelope/BSE Print Solutions Your local full service print solutions provider for all of your sales and marketing materials from business cards\, brochures\, presentation folders and letterhead to large banners and everything in between.  We pride ourselves on quality products\, with quick turnarounds and competitive pricing. No job is too small.
X-ALT-DESC;FMTTYPE=text/html:<p><span style="font-size:14px\;"><span style="font-family:arial\;">You are invited to attend the September Business After Hours at <strong>Bay State Envelope/BSE Print Solutions</strong> at 440 Chauncy Street in Mansfield. Please join us for cocktails\, some great Hors d&rsquo\;oeuvres and a live demo of our capabilities.&nbsp\; WE WILL ALSO BE RAFFLING OFF TWO SETS OF RED SOX TICKETS AND YOUR CHANCE TO SEE BIG PAPI HIT HIS 500TH HOME RUN.&nbsp\;<br />\n<br />\nThe Chamber&#39\;s Business After Hour networking events are designed as a great way to meet fellow Chamber members\, to distribute your business cards and/or brochures\, and to make meaningful connections in a comfortable atmosphere. If you have never been to an after hours let us know and we will make sure an Ambassador welcomes you!<br />\n<br />\n<em><strong>About our After Hours Host:</strong><br />\nBay State Envelope/BSE Print Solutions Your local full service print solutions provider for all of your sales and marketing materials from business cards\, brochures\, presentation folders and letterhead to large banners and everything in between.&nbsp\; We pride ourselves on quality products\, with quick turnarounds and competitive pricing. No job is too small.</em></span></span></p>\n
LOCATION:440 Chauncy Street Mansfield\, MA 02048
UID:e.1730.1672
SEQUENCE:3
DTSTAMP:20260419T185953Z
URL:https://www.tri-townchamber.org/events/details/bah-bse-print-solutions-mansfield-09-16-2015-1672
END:VEVENT

END:VCALENDAR
