BEGIN:VCALENDAR
VERSION:2.0
PRODID:-//ChamberMaster//Event Calendar 2.0//EN
METHOD:PUBLISH
X-PUBLISHED-TTL:P3D
REFRESH-INTERVAL:P3D
CALSCALE:GREGORIAN
BEGIN:VEVENT
DTSTART:20140416T210000Z
DTEND:20140416T230000Z
X-MICROSOFT-CDO-ALLDAYEVENT:FALSE
SUMMARY:BAH: Brigham and Women's/Mass General Health Care Center
DESCRIPTION:You are invited to attend the April Business After Hours at Brigham and Women's/Mass General Health Care Center at 20 Patriot Place in Foxborough.  The event will be held on the third Floor Atrium.\n\nThe Chamber's Business After Hour networking events are a great way to meet fellow Chamber members\, to distribute your business cards and/or brochures\, and to make meaningful connections in a comfortable atmosphere. If you have never been to an after hours let us know and we will make sure an Ambassador welcomes you!\n\n \n     Brigham and Women's/Mass General Health Care Center is a full-service health care center located right next to Gillette Stadium at Patriot Place in Foxborough. Nowhere else in New England can you find under one roof a lineup of experts from two institutions   Brigham and Women's and Mass General   both ranked on the U.S. News and World Report Honor Roll of Best Hospitals. Our range of services includes everything from A to Z\, including allergy\, cardiology\, endocrinology\, imaging\, and orthopedic surgery to pain management\, physical therapy\, pulmonology\, rheumatology\, and vein care.\n\n     We offer Day Surgery\, Medical/Surgical specialties\, Primary Care\, Comprehensive Bone and Joint Care\, ENT and Audiology Services\, Rehab\, Women's Health services\, and Urgent Care. All of our offerings are provided on an outpatient basis.\n\n     To learn more about the comprehensive list of services we provide\, visit www.brighamandwomens.org/foxborough or call us at 866-378-9164. Brigham and Women's/Mass General Health Care Center has been serving the greater Foxborough community since 2009\, and has been a member of the Tri-Town Chamber of Commerce since 2008.
X-ALT-DESC;FMTTYPE=text/html:<span style="font-family:arial\;"><span style="font-size:14px\;">You are invited to attend the April Business After Hours at <strong>Brigham and Women&#39\;s/Mass General Health Care Center</strong> at 20 Patriot Place in Foxborough.&#8203\; The event will be held on the third Floor Atrium.<br />\nThe Chamber&#39\;s Business After Hour networking events are a great way to meet fellow Chamber members\, to distribute your business cards and/or brochures\, and to make meaningful connections in a comfortable atmosphere. If you have never been to an after hours let us know and we will make sure an Ambassador welcomes you!</span></span><br />\n&nbsp\;\n<div style="margin-left: 40px\;"><span style="font-family:arial\;"><span style="font-size:14px\;"><em>&nbsp\; &nbsp\; &nbsp\;Brigham and Women&rsquo\;s/Mass General Health Care Center is a full-service health care center located right next to Gillette Stadium at Patriot Place in Foxborough. Nowhere else in New England can you find under one roof a lineup of experts from two institutions &ndash\; Brigham and Women&rsquo\;s and Mass General &ndash\; both ranked on the U.S. News and World Report Honor Roll of Best Hospitals. Our range of services includes everything from A to Z\, including allergy\, cardiology\, endocrinology\, imaging\, and orthopedic surgery to pain management\, physical therapy\, pulmonology\, rheumatology\, and vein care.<br />\n&nbsp\; &nbsp\; &nbsp\;We offer Day Surgery\, Medical/Surgical specialties\, Primary Care\, Comprehensive Bone and Joint Care\, ENT and Audiology Services\, Rehab\, Women&rsquo\;s Health services\, and Urgent Care. All of our offerings are provided on an outpatient basis.<br />\n&nbsp\; &nbsp\; &nbsp\;To learn more about the comprehensive list of services we provide\, visit www.brighamandwomens.org/foxborough or call us at 866-378-9164. Brigham and Women&rsquo\;s/Mass General Health Care Center has been serving the greater Foxborough community since 2009\, and has been a member of the Tri-Town Chamber of Commerce since 2008.</em></span></span></div>\n
LOCATION:Brigham and Women's/Mass General Health Care Center at 20 Patriot Place in Foxborough. Event held in the Third Floor Atrium free parking is available in Lot 22\, in front of the building. directions
UID:e.1730.988
SEQUENCE:3
DTSTAMP:20260421T000749Z
URL:https://www.tri-townchamber.org/events/details/bah-brigham-and-women-s-mass-general-health-care-center-04-16-2014-988
END:VEVENT

END:VCALENDAR
