BEGIN:VCALENDAR
VERSION:2.0
PRODID:-//ChamberMaster//Event Calendar 2.0//EN
METHOD:PUBLISH
X-PUBLISHED-TTL:P3D
REFRESH-INTERVAL:P3D
CALSCALE:GREGORIAN
BEGIN:VEVENT
DTSTART:20150122T220000Z
DTEND:20150123T000000Z
X-MICROSOFT-CDO-ALLDAYEVENT:FALSE
SUMMARY:BAH: Betro & Company PC
DESCRIPTION:You are invited to attend the January Business After Hours at Betro & Company PC at   30 Mechanic Street   Foxboro\, MA 02035\n\n.\n\nThe Chamber's Business After Hour networking events are a great way to meet fellow Chamber members\, to distribute your business cards and/or brochures\, and to make meaningful connections in a comfortable atmosphere. If you have never been to an after hours let us know and we will make sure an Ambassador welcomes you!\n\n\n\nAbout our After Hours Host:\n\nServicing corporate and individual clients since 1958\, Betro and Company is a widely recognized leader in the New England accounting industry.  From traditional accounting and tax services to progressive valuation and transaction advisory services\, our experience and knowledge of the local business environment is unsurpassed.\n\n \n\nToday\, our team of CPAs and accredited valuation professionals is proud to serve greater New England. Whether preparing tax returns\, reviewing accounting records\, or planning for an acquisition\, succession\, expansion\, or litigation\, each member of Betro and Company understands that timely delivery of accurate support is essential to the continued success of our clients.
X-ALT-DESC;FMTTYPE=text/html:<span style="font-size:16px\;">You are invited to attend the January&nbsp\;Business After Hours at <strong>Betro&nbsp\;&amp\; Company PC</strong> at &nbsp\;&nbsp\;<span style="font-family: Cuprum\, sans-serif\; line-height: 18.2000007629395px\;">30 Mechanic Street &nbsp\;&nbsp\;</span><span itemprop="addressLocality" style="font-family: inherit\; line-height: inherit\; margin: 0px\; padding: 0px\; border: none\; border-image-source: none\; border-image-slice: 100% 1 0\; border-image-repeat: stretch\; outline: invert none medium\; bottom: auto\; box-sizing: content-box\; clear: none\; content: normal\; direction: inherit\; display: inline\; empty-cells: show\; float: none\; font-style: inherit\; font-variant: inherit\; font-weight: inherit\; font-stretch: inherit\; left: auto\; letter-spacing: inherit\; max-height: none\; max-width: none\; opacity: 1\; outline-offset: 0px\; overflow: visible\; position: static\; resize: none\; right: auto\; table-layout: auto\; text-align: inherit\; text-indent: inherit\; text-overflow: clip\; text-transform: inherit\; top: auto\; vertical-align: baseline\; visibility: inherit\; white-space: inherit\; word-break: inherit\; word-spacing: inherit\; word-wrap: inherit\; z-index: auto\; border-collapse: separate\; border-radius: 0px\; height: auto\; width: auto\; box-shadow: none\; background: none\;">Foxboro</span><span style="font-family: Cuprum\, sans-serif\; line-height: 18.2000007629395px\;">\,&nbsp\;</span><span itemprop="addressRegion" style="font-family: inherit\; line-height: inherit\; margin: 0px\; padding: 0px\; border: none\; border-image-source: none\; border-image-slice: 100% 1 0\; border-image-repeat: stretch\; outline: invert none medium\; bottom: auto\; box-sizing: content-box\; clear: none\; content: normal\; direction: inherit\; display: inline\; empty-cells: show\; float: none\; font-style: inherit\; font-variant: inherit\; font-weight: inherit\; font-stretch: inherit\; left: auto\; letter-spacing: inherit\; max-height: none\; max-width: none\; opacity: 1\; outline-offset: 0px\; overflow: visible\; position: static\; resize: none\; right: auto\; table-layout: auto\; text-align: inherit\; text-indent: inherit\; text-overflow: clip\; text-transform: inherit\; top: auto\; vertical-align: baseline\; visibility: inherit\; white-space: inherit\; word-break: inherit\; word-spacing: inherit\; word-wrap: inherit\; z-index: auto\; border-collapse: separate\; border-radius: 0px\; height: auto\; width: auto\; box-shadow: none\; background: none\;">MA&nbsp\;</span><span itemprop="postalCode" style="font-family: inherit\; line-height: inherit\; margin: 0px\; padding: 0px\; border: none\; border-image-source: none\; border-image-slice: 100% 1 0\; border-image-repeat: stretch\; outline: invert none medium\; bottom: auto\; box-sizing: content-box\; clear: none\; content: normal\; direction: inherit\; display: inline\; empty-cells: show\; float: none\; font-style: inherit\; font-variant: inherit\; font-weight: inherit\; font-stretch: inherit\; left: auto\; letter-spacing: inherit\; max-height: none\; max-width: none\; opacity: 1\; outline-offset: 0px\; overflow: visible\; position: static\; resize: none\; right: auto\; table-layout: auto\; text-align: inherit\; text-indent: inherit\; text-overflow: clip\; text-transform: inherit\; top: auto\; vertical-align: baseline\; visibility: inherit\; white-space: inherit\; word-break: inherit\; word-spacing: inherit\; word-wrap: inherit\; z-index: auto\; border-collapse: separate\; border-radius: 0px\; height: auto\; width: auto\; box-shadow: none\; background: none\;">02035</span></span><br />\n<span style="font-size:14px\;">.<br />\nThe Chamber&#39\;s Business After Hour networking events are a great way to meet fellow Chamber members\, to distribute your business cards and/or brochures\, and to make meaningful connections in a comfortable atmosphere. If you have never been to an after hours let us know and we will make sure an Ambassador welcomes you!</span><br />\n<br />\n<em><strong>About our After Hours Host:</strong><br />\nServicing corporate and individual clients since 1958\, Betro and Company is a widely recognized leader in the New England accounting industry.&nbsp\; From traditional accounting and tax services to progressive valuation and transaction advisory services\, our experience and knowledge of the local business environment is unsurpassed.<br />\n&nbsp\;<br />\nToday\, our team of CPAs and accredited valuation professionals is proud to serve greater New England. Whether preparing tax returns\, reviewing accounting records\, or planning for an acquisition\, succession\, expansion\, or litigation\, each member of Betro and Company understands that timely delivery of accurate support is essential to the continued success of our clients.</em><br />\n<br />\n&nbsp\;
LOCATION:30 Mechanic Street Foxboro\, MA 02035
UID:e.1730.1234
SEQUENCE:3
DTSTAMP:20260420T084105Z
URL:https://www.tri-townchamber.org/events/details/bah-betro-company-pc-01-22-2015-1234
END:VEVENT

END:VCALENDAR
