BEGIN:VCALENDAR
VERSION:2.0
PRODID:-//ChamberMaster//Event Calendar 2.0//EN
METHOD:PUBLISH
X-PUBLISHED-TTL:P3D
REFRESH-INTERVAL:P3D
CALSCALE:GREGORIAN
BEGIN:VEVENT
DTSTART:20150504T230000Z
DTEND:20150505T003000Z
X-MICROSOFT-CDO-ALLDAYEVENT:FALSE
SUMMARY:Arthritis and Sports: Staying in the Game
DESCRIPTION:Brigham and Women's/Mass General Health Care Center's mission is to improve the health and wellness of the greater Foxborough area. As part of that mission\, we are offering a series of free health classes this spring that are open to all.\n\n\n\nJoin Brigham and Women's Rheumatologist I-Cheng Ho\, MD along with Physical Therapist Matthew Travers to learn how the right approach to managing arthritis can help you remain physically active! Free and open to all - registration required to ensure adequate seating.
X-ALT-DESC;FMTTYPE=text/html:Brigham and Women&#39\;s/Mass General Health Care Center&#39\;s mission is to improve the health and wellness of the greater Foxborough area. As part of that mission\, we are offering a series of free health classes this spring that are open to all.<br />\n<br />\nJoin Brigham and Women&#39\;s Rheumatologist I-Cheng Ho\, MD along with&nbsp\;Physical Therapist Matthew Travers to learn how the right approach to managing arthritis can help you remain physically active! Free and open to all - registration required to ensure adequate seating.
LOCATION:Brigham and Women's/Mass General Health Care Center 2d floor conference room 20 Patriot Place Foxborough\, MA
UID:e.1730.1638
SEQUENCE:3
DTSTAMP:20260420T015746Z
URL:https://www.tri-townchamber.org/events/details/arthritis-and-sports-staying-in-the-game-05-04-2015-1638
END:VEVENT

END:VCALENDAR
