BEGIN:VCALENDAR
VERSION:2.0
PRODID:-//ChamberMaster//Event Calendar 2.0//EN
METHOD:PUBLISH
X-PUBLISHED-TTL:P3D
REFRESH-INTERVAL:P3D
CALSCALE:GREGORIAN
BEGIN:VEVENT
DTSTART;VALUE=DATE:20130510
DTEND;VALUE=DATE:20130511
TRANSP:TRANSPARENT
X-MICROSOFT-CDO-ALLDAYEVENT:TRUE
SUMMARY:Annual Monte Carlo & Silent Auction
DESCRIPTION:Need A Night Out? Attend the 5th Annual Monte Carlo & Silent Auction Night Open to the Communities\, Friends\, Family\, Co Workers\, no need to be  a Chamber member to Attend!  Tickets to the event include Funny Money to play: Blackjack\, Roulette\, Craps and Texas hold 'em Over 75 Silent Auction Items\, Beverages\, Hors d'oeuvres and Door Prizes.\n\n\n\nFor More Information Call: 508-339-5655 \n\n\n\nTickets Available At The Following Chamber Member Locations or To Purchase Tickets By Phone\, Please Call The Chamber:\n\n\n\nTRI-TOWN CHAMBER OF COMMERCE - 280 School St.\, Mansfield 508-339-5655 \n\nMANSFIELD BANK - 80 No. Main St.\, Mansfield 508-339-2901 and 225 West St.\, Norton 508-851-3801 \n\nSHARON CREDIT UNION - Chestnut Green\, Foxboro 508-698-1015
X-ALT-DESC;FMTTYPE=text/html:<span style="font-size: medium\;"><span style="font-family: calibri\;">Need A Night Out? <strong>Attend the </strong></span></span><strong><span style="font-size: medium\;"><span style="font-family: calibri\;">5th Annual Monte Carlo &amp\; Silent Auction Night </span></span></strong><span style="font-size: medium\;"><span style="font-family: calibri\;">Open to the Communities\, Friends\, Family\, Co Workers\, no need to be&nbsp\; a Chamber member to Attend!&nbsp\;&nbsp\;Tickets to the event include Funny<span style="font-size: medium\;"><span style="font-family: calibri\;"> Money to play: Blackjack\, Roulette\, Craps and Texas hold &lsquo\;em Over 75 Silent Auction Items\, Beverages\, Hors d&rsquo\;oeuvres and Door Prizes.<br />\n<br />\nFor More Information Call: 508-339-5655&nbsp\;</span></span></span></span><br />\n<br />\n<span style="font-size: medium\;"><span style="font-family: calibri\;">Tickets Available At The Following Chamber Member Locations or To Purchase Tickets By Phone\, Please Call The Chamber:</span></span><br />\n<br />\n<span style="font-size: medium\;"><span style="font-family: calibri\;">TRI-TOWN CHAMBER OF COMMERCE - 280 School St.\, Mansfield 508-339-5655 </span></span><br />\n<span style="font-size: medium\;"><span style="font-family: calibri\;">MANSFIELD BANK - 80 No. Main St.\, Mansfield 508-339-2901 and 225 West St.\, Norton 508-851-3801 </span></span><br />\n<span style="font-size: medium\;"><span style="font-family: calibri\;">SHARON CREDIT UNION - Chestnut Green\, Foxboro 508-698-1015&nbsp\;</span></span><br />\n<br />\n<br />\n<br />\n<br />\n<br />\n&nbsp\;<br />\n
LOCATION:Grand Ballroom of the Holiday Inn in Mansfield
UID:e.1730.1
SEQUENCE:3
DTSTAMP:20260421T175748Z
URL:https://www.tri-townchamber.org/events/details/annual-monte-carlo-silent-auction-05-10-2013-1
END:VEVENT

END:VCALENDAR
