BEGIN:VCALENDAR
VERSION:2.0
PRODID:-//ChamberMaster//Event Calendar 2.0//EN
METHOD:PUBLISH
X-PUBLISHED-TTL:P3D
REFRESH-INTERVAL:P3D
CALSCALE:GREGORIAN
BEGIN:VEVENT
DTSTART:20140207T163000Z
DTEND:20140207T190000Z
X-MICROSOFT-CDO-ALLDAYEVENT:FALSE
SUMMARY:Annual Meeting Success & Service Awards
DESCRIPTION:You are invited to join the Tri-Town Chamber for a Celebration for our 25th Annual Meeting and Success & Service Awards. On Friday\, February 7\, 2014 at the gorgeous Renaissance Hotel & Spa at Patriot Place Foxboro\n\n \n\nAWARDS: The Success & Service Awards\, recognize our members for their outstanding contributions to the Tri-Town Chamber of Commerce\, as well as their dedication to the communities of Foxborough\, Mansfield\, and Norton.\n\n \n\nSPEAKER: Wendy Hanson  "ENGAGING BOTH SIDES OF THE BRAIN"\n\n	\n		What are mirror neurons and how do they impact the people around us?\n	\n		How we can execute on projects more effectively using the Reticular Activating System of the brain?\n	\n		How do we understand and communicate with clients or customers who are analytical and left brain dominant if we are right brain dominant?\n	\n		How do adapt our style for colleagues or clients who are visually oriented and right brain dominant?\n	\n		As we give presentations at meetings\, what techniques are going to make us more powerful presenters so that we can move ahead with our business goals and objectives?\n\n\n	Wendy Hanson Bio\n\n	As an executive coach and business consultant\, Wendy Hanson has over 16 years of experience working with small and large companies. Wendy's specialty is helping women business owners succeed. Her client companies include Google\, AOL\, Mapquest\, Patch\, AIPSO\, Gracie's and The Savory Grape.\n\n	 \n\n	In 1999\, Wendy founded Corley Hanson Associates\, a WBENC certified company. She is also a partner in PointForward Ventures\, helping startups and working with venture capital groups. Wendy is a co-author of The Sassy Ladies' Toolkit for Start-Up Businesses and the host of "It's All in the BRA: Business-Revenue-Assets" a live radio broadcast and podcast on ITunes.\n\n	 \n\n	Wendy has an M.Ed in Organization and Management from Antioch University Graduate School\, Keene\, New Hampshire. She has been a CEO of a non-profit organization\, and held many leadership positions in the human services and education fields.\n\n	 \n\n	Wendy is a member of the National Speakers Association\, and unapologetically lives in Oakland\, CA.\n \n\n\n\n \n\nAward History\n\n \n\nBusiness of the Year:  -recognizing the business organization  whose outstanding contributions make them a leader within the Chamber as well as the community at large.\n\n1996:  Automation Concepts and Technologies\n\n1997:  Foxborough Savings Bank (now Rockland Trust)\n\n1998:  Ro-Jacks Supermarkets\n\n1999:  North Easton Savings Bank\n\n2000:  Foxboro Company (Invensys)\n\n2001:  Hockomock Area YMCA\n\n2004:  DSA Foxboro Terminals\n\n2005:  W/S Development \n\n2006: Samsonite\n\n2007:  Mansfield Bank\n\n2008:  Invensys\n\n2009:  Covidien\n\n2010:  Holiday Inn Mansfield/ Foxboro\n\n2011:  North Easton Savings Bank\n\n2012:  Foley & Foley PC\n\n \n\nBusiness Person of the Year: - recognizing the individual businessperson that has demonstrated qualities of exemplary community leadership.\n\n1996:  Ed Tartufo\n\n1997:  Jay Barrows\n\n1998:  Bill Buckley Sr.\n\n1999:  Tricia White\n\n2000:  Terry McLaughlin \n\n2001:  Chris Rappold\n\n2004:  Deb Crowell\n\n2005:  Kara Griffin\n\n2006:  Debbie Nichols\n\n2007:  Emily Miller\, Catherine Ellsworth\n\n2008:  Kristi Johnston\n\n2009:  Greg and Kathy Spier\n\n2010:  Ellyne Fleshner\n\n2011:  Ingrid Williams\n\n2012:  Joan Gagnon
X-ALT-DESC;FMTTYPE=text/html:You are invited to join the Tri-Town Chamber for a Celebration for our 25th Annual Meeting and Success &amp\; Service Awards. On Friday\, February 7\, 2014 at the gorgeous Renaissance Hotel &amp\; Spa at Patriot Place Foxboro<br />\n&nbsp\;<br />\nAWARDS: The Success &amp\; Service Awards\, recognize our members for their outstanding contributions to the Tri-Town Chamber of Commerce\, as well as their dedication to the communities of Foxborough\, Mansfield\, and Norton.<br />\n&nbsp\;<br />\nSPEAKER: Wendy Hanson <strong>&nbsp\;&quot\;ENGAGING BOTH SIDES OF THE BRAIN&quot\;</strong>\n<ul>\n	<li>\n		What are mirror neurons and how do they impact the people around us?</li>\n	<li>\n		How we can execute on projects more effectively using the Reticular Activating System of the brain?</li>\n	<li>\n		How do we understand and communicate with clients or customers who are analytical and left brain dominant if we are right brain dominant?</li>\n	<li>\n		How do adapt our style for colleagues or clients who are visually oriented and right brain dominant?</li>\n	<li>\n		As we give presentations at meetings\, what techniques are going to make us more powerful presenters so that we can move ahead with our business goals and objectives?</li>\n</ul>\n<div style="margin-left: 80px\;">\n	<em><strong>Wendy Hanson Bio</strong><br />\n	As an executive coach and business consultant\, Wendy Hanson has over 16 years of experience working with small and large companies. Wendy&rsquo\;s specialty is helping women business owners succeed. Her client companies include Google\, AOL\, Mapquest\, Patch\, AIPSO\, Gracie&rsquo\;s and The Savory Grape.<br />\n	&nbsp\;<br />\n	In 1999\, Wendy founded Corley Hanson Associates\, a WBENC certified company. She is also a partner in PointForward Ventures\, helping startups and working with venture capital groups. Wendy is a co-author of The Sassy Ladies&#39\; Toolkit for Start-Up Businesses and the host of &quot\;It&rsquo\;s All in the BRA: Business-Revenue-Assets&rdquo\; a live radio broadcast and podcast on ITunes.<br />\n	&nbsp\;<br />\n	Wendy has an M.Ed in Organization and Management from Antioch University Graduate School\, Keene\, New Hampshire. She has been a CEO of a non-profit organization\, and held many leadership positions in the human services and education fields.<br />\n	&nbsp\;<br />\n	Wendy is a member of the National Speakers Association\, and unapologetically lives in Oakland\, CA.</em></div>\n&nbsp\;<br />\n<br />\n&nbsp\;<br />\n<strong>Award History</strong><br />\n&nbsp\;<br />\n<strong>Business of the Year: &nbsp\;</strong>-recognizing the business organization&nbsp\; whose outstanding contributions make them a leader within the Chamber as well as the community at large.<br />\n1996:&nbsp\; Automation Concepts and Technologies<br />\n1997:&nbsp\; Foxborough Savings Bank (now Rockland Trust)<br />\n1998:&nbsp\; Ro-Jacks Supermarkets<br />\n1999:&nbsp\; North Easton Savings Bank<br />\n2000:&nbsp\; Foxboro Company (Invensys)<br />\n2001:&nbsp\; Hockomock Area YMCA<br />\n2004:&nbsp\; DSA Foxboro Terminals<br />\n2005:&nbsp\; W/S Development&nbsp\;<br />\n2006: Samsonite<br />\n2007:&nbsp\; Mansfield Bank<br />\n2008:&nbsp\; Invensys<br />\n2009:&nbsp\; Covidien<br />\n2010:&nbsp\; Holiday Inn Mansfield/ Foxboro<br />\n2011:&nbsp\; North Easton Savings Bank<br />\n2012:&nbsp\; Foley &amp\; Foley PC<br />\n&nbsp\;<br />\n<strong>Business Person of the Year:&nbsp\;</strong>- recognizing the individual businessperson that has demonstrated qualities of exemplary community leadership.<br />\n1996:&nbsp\; Ed Tartufo<br />\n1997:&nbsp\; Jay Barrows<br />\n1998:&nbsp\; Bill Buckley Sr.<br />\n1999:&nbsp\; Tricia White<br />\n2000:&nbsp\; Terry McLaughlin&nbsp\;<br />\n2001:&nbsp\; Chris Rappold<br />\n2004:&nbsp\; Deb Crowell<br />\n2005:&nbsp\; Kara Griffin<br />\n2006:&nbsp\; Debbie Nichols<br />\n2007:&nbsp\; Emily Miller\, Catherine Ellsworth<br />\n2008:&nbsp\; Kristi Johnston<br />\n2009:&nbsp\; Greg and Kathy Spier<br />\n2010:&nbsp\; Ellyne Fleshner<br />\n2011:&nbsp\; Ingrid Williams<br />\n2012:&nbsp\; Joan Gagnon<br />\n
LOCATION:Renaissance Hotel & Spa at Patriot Place Enjoy this 3 course Lunch: Baby Mixed Green Salad\, Pan Seared Chicken with Garlic Mashed Potatoes\, Green Beans\, and Wild Mushroom Demi-Glace and for dessert Cheesecake\, Caramel Sauce\, Cookie Wafer.
UID:e.1730.444
SEQUENCE:3
DTSTAMP:20260421T034839Z
URL:https://www.tri-townchamber.org/events/details/annual-meeting-success-service-awards-02-07-2014-444
END:VEVENT

END:VCALENDAR
