BEGIN:VCALENDAR
VERSION:2.0
PRODID:-//ChamberMaster//Event Calendar 2.0//EN
METHOD:PUBLISH
X-PUBLISHED-TTL:P3D
REFRESH-INTERVAL:P3D
CALSCALE:GREGORIAN
BEGIN:VEVENT
DTSTART:20150206T163000Z
DTEND:20150206T184500Z
X-MICROSOFT-CDO-ALLDAYEVENT:FALSE
SUMMARY:Annual Meeting Success & Service Awards
DESCRIPTION:You are invited to join the Tri-Town Chamber for a Celebration for our 26th Annual Meeting and Success & Service Awards. On Friday\, February 6\, 2015 at the gorgeous Renaissance Hotel at Patriot Place Foxboro\n\n \n\nAWARDS: The Success & Service Awards\, recognize our members for their outstanding contributions to the Tri-Town Chamber of Commerce\, as well as their dedication to the communities of Foxborough\, Mansfield\, and Norton.\n\nAwards will be announced at the luncheon   see Award History Below\n\n \n\nADDED EXPOSURE AT THIS POPULAR EVENT: Become a Centerpiece Sponsor $100\n\n\n\nKeynote Speaker  Jim Ryan Managing Thought\; The Key to Success in Business and in Life\n\nAs business people we understand that being at our best everyday is critical to our success but at the same time can be a challenge. You will leave this program armed with strategies for cultivating empowering thoughts and ridding yourself of negative ones.\n\n    Topics will include:  Self Awareness\, The Nature of Thought  (a thought is just a thought)\, Your Happiness Quotient\, The Placebo Effect and Gratitude is the Place to Start\n\nJim Ryan the ability to turn profound concepts into easily understood solutions. With quotes\, humor\, anecdotes and song\, the program has folks leaving excited about the possibilities of living a happy joy-filled life.\n\n\n\nAWARD HISTORY.... \n\nBusiness of the Year:  -recognizing the business organization  whose outstanding contributions make them a leader within the Chamber as well as the community at large.\n\n1996:  Automation Concepts and Technologies\n\n1997:  Foxborough Savings Bank (now Rockland Trust)\n\n1998:  Ro-Jacks Supermarkets\n\n1999:  North Easton Savings Bank\n\n2000:  Foxboro Company (Invensys)\n\n2001:  Hockomock Area YMCA\n\n2004:  DSA Foxboro Terminals\n\n2005:  W/S Development \n\n2006: Samsonite\n\n2007:  Mansfield Bank\n\n2008:  Invensys\n\n2009:  Covidien\n\n2010:  Holiday Inn Mansfield/ Foxboro\n\n2011:  North Easton Savings Bank\n\n2012:  Foley & Foley PC\n\n2013:  ESP Solutions\n\n \n\nBusiness Person of the Year: - recognizing the individual businessperson that has demonstrated qualities of exemplary community leadership\, within the Chamber as well as the community at large.\n\n1996:  Ed Tartufo\n\n1997:  Jay Barrows\n\n1998:  Bill Buckley Sr.\n\n1999:  Tricia White\n\n2000:  Terry McLaughlin \n\n2001:  Chris Rappold\n\n2004:  Deb Crowell\n\n2005:  Kara Griffin\n\n2006:  Debbie Nichols\n\n2007:  Emily Miller\, Catherine Ellsworth\n\n2008:  Kristi Johnston\n\n2009:  Greg and Kathy Spier\n\n2010:  Ellyne Fleshner\n\n2011:  Ingrid Williams\n\n2012:  Joan Gagnon\n\n 2013:  Jen Vondenbrink
X-ALT-DESC;FMTTYPE=text/html:<span style="font-size:14px\;"><span style="font-family:arial\;">You are invited to join the Tri-Town Chamber for a Celebration for our <strong>26th Annual Meeting and Success &amp\; Service Awards</strong>. On Friday\, February 6\, 2015 at the gorgeous Renaissance Hotel at Patriot Place Foxboro<br />\n&nbsp\;<br />\n<strong>AWARDS: </strong>The Success &amp\; Service Awards\, recognize our members for their outstanding contributions to the Tri-Town Chamber of Commerce\, as well as their dedication to the communities of Foxborough\, Mansfield\, and Norton.<br />\n<strong>Awards will be announced at the luncheon&nbsp\;&nbsp\;&nbsp\;</strong><em>see Award History Below</em><br />\n<span style="line-height: 20.7999992370605px\;">&nbsp\;</span><br style="line-height: 20.7999992370605px\;" />\n<span style="line-height: 20.7999992370605px\;">ADDED EXPOSURE AT THIS POPULAR EVENT: Become a Centerpiece Sponso</span><b style="line-height: 20.7999992370605px\;">r $100</b></span><br />\n<br />\n<em><b style="line-height: 20.7999992370605px\;">Keynote Speaker &nbsp\;</b>Jim Ryan Managing Thought\; The Key to Success in Business and in Life<br />\nAs business people we understand that being at our best&nbsp\;everyday is critical to our success but at the same time can be a challenge. You will leave this program armed with strategies for cultivating empowering thoughts and ridding yourself of negative ones.<br />\n&nbsp\;&nbsp\; &nbsp\;Topics will include: &nbsp\;Self Awareness\, The Nature of Thought &nbsp\;(a thought is just a thought)\, Your Happiness Quotient\,&nbsp\;The Placebo Effect and Gratitude is the Place to Start<br />\nJim Ryan the ability to turn profound concepts into easily&nbsp\;understood solutions. With quotes\, humor\, anecdotes and song\, the program has folks leaving excited about the possibilities of living a happy joy-filled life.</em></span><br />\n<br />\n<span style="font-size:14px\;"><span style="font-family:arial\;"><u><b style="line-height: 20.7999992370605px\;">AWARD HISTORY....</b>&nbsp\;</u><br />\n<strong>Business of the Year: &nbsp\;</strong>-recognizing the business organization&nbsp\; whose outstanding contributions make them a leader within the Chamber as well as the community at large.<br />\n1996:&nbsp\; Automation Concepts and Technologies<br />\n1997:&nbsp\; Foxborough Savings Bank (now Rockland Trust)<br />\n1998:&nbsp\; Ro-Jacks Supermarkets<br />\n1999:&nbsp\; North Easton Savings Bank<br />\n2000:&nbsp\; Foxboro Company (Invensys)<br />\n2001:&nbsp\; Hockomock Area YMCA<br />\n2004:&nbsp\; DSA Foxboro Terminals<br />\n2005:&nbsp\; W/S Development&nbsp\;<br />\n2006: Samsonite<br />\n2007:&nbsp\; Mansfield Bank<br />\n2008:&nbsp\; Invensys<br />\n2009:&nbsp\; Covidien<br />\n2010:&nbsp\; Holiday Inn Mansfield/ Foxboro<br />\n2011:&nbsp\; North Easton Savings Bank<br />\n2012:&nbsp\; Foley &amp\; Foley PC<br />\n2013: &nbsp\;ESP Solutions<br />\n&nbsp\;<br />\n<strong>Business Person of the Year:&nbsp\;</strong>- recognizing the individual businessperson that has demonstrated qualities of exemplary community leadership\,&nbsp\;<span style="line-height: 20.7999992370605px\;">within the Chamber as well as the community at large.</span><br />\n1996:&nbsp\; Ed Tartufo<br />\n1997:&nbsp\; Jay Barrows<br />\n1998:&nbsp\; Bill Buckley Sr.<br />\n1999:&nbsp\; Tricia White<br />\n2000:&nbsp\; Terry McLaughlin&nbsp\;<br />\n2001:&nbsp\; Chris Rappold<br />\n2004:&nbsp\; Deb Crowell<br />\n2005:&nbsp\; Kara Griffin<br />\n2006:&nbsp\; Debbie Nichols<br />\n2007:&nbsp\; Emily Miller\, Catherine Ellsworth<br />\n2008:&nbsp\; Kristi Johnston<br />\n2009:&nbsp\; Greg and Kathy Spier<br />\n2010:&nbsp\; Ellyne Fleshner<br />\n2011:&nbsp\; Ingrid Williams<br />\n2012:&nbsp\; Joan Gagnon<br />\n&#8203\;2013: &nbsp\;Jen Vondenbrink</span></span>
LOCATION:Renaissance Hotel at Patriot Place Enjoy this 3 course Lunch: Baby Mixed Green Salad Slow Braised Short Ribs\, Roasted Garlic Deep Woods Mushroom Glaze Cheesecake\, Caramel Sauce\, Cookie Wafer
UID:e.1730.1254
SEQUENCE:3
DTSTAMP:20260420T064440Z
URL:https://www.tri-townchamber.org/events/details/annual-meeting-success-service-awards-02-06-2015-1254
END:VEVENT

END:VCALENDAR
