BEGIN:VCALENDAR
VERSION:2.0
PRODID:-//ChamberMaster//Event Calendar 2.0//EN
METHOD:PUBLISH
X-PUBLISHED-TTL:P3D
REFRESH-INTERVAL:P3D
CALSCALE:GREGORIAN
BEGIN:VEVENT
DTSTART:20151003T133000Z
DTEND:20151003T160000Z
X-MICROSOFT-CDO-ALLDAYEVENT:FALSE
SUMMARY:Annual HUGS Walk & Family Fun Day
DESCRIPTION:10th Annual H.U.G.S - Foxboro Walk and Family Fun Day\n\n\n	Something for Everyone\n	Family Fun Activities\n	Tuch-A-Truck\n\nJoin Us and Support the Mission of Violence Awareness prevention and Education\n\nRegistration to Walk   $10 in Advance /  $12 Day of Walk\n\n\n\nWhat is H.U.G.S Foxboro \n\nH.U.G.S Foxboro was established in 2002. It is a local non-profit organization and is funded by grants and tax-deductible private donations. As such it is registered as an IRC Section 501(c)(3) organization and has been given tax-exempt status.\n\n \nH.U.G.S Foxboro works in collaboration with the Foxboro Police\, Foxboro Council on Aging\, and the Human Services to help victims of domestic violence by:\n\n\n	Providing the Foxboro police department with phone cards and gift cards for individuals escaping from a domestic violence situation.\n	Offering taxi vouchers to transport victims to court\, counseling\, or shelters\n	Offering lock changes\n	Referrals to a local domestic violence support group and a Foxboro community social worker\n	Working with the schools and community to provide programs that create awareness and educate about violence\n\nWEBSITE: http://www.hugsfoxboro.org
X-ALT-DESC;FMTTYPE=text/html:<br />\n<span style="color:#696969\;"><strong>10th&nbsp\;Annual H.U.G.S - Foxboro Walk and Family Fun Day</strong></span>\n\n<ul>\n	<li><span style="color:#696969\;">Something for Everyone</span></li>\n	<li><span style="color:#696969\;">Family Fun Activities</span></li>\n	<li><span style="color:#696969\;">Tuch-A-Truck</span></li>\n</ul>\n<span style="color:#696969\;">Join Us and Support the Mission of Violence Awareness prevention and Education<br />\nRegistration to Walk &nbsp\; $10 in Advance / &nbsp\;$12 Day of Walk<br />\n<br />\n<span style="font-family: helvetica\, arial\, sans-serif\; line-height: 18px\;"><em><strong>What is H.U.G.S Foxboro&nbsp\;</strong></em></span><br />\n<span style="font-family: helvetica\, arial\, sans-serif\; line-height: 18px\;">H.U.G.S Foxboro was established in 2002. It is a local non-profit organization and is funded by grants and tax-deductible p</span><span class="text_exposed_show" style="display: inline\; font-family: helvetica\, arial\, sans-serif\; line-height: 18px\;">rivate donations. As such it is registered as an IRC Section 501(c)(3) organization and has been given tax-exempt status.</span></span><br />\n&nbsp\;\n<div style="font-size: 14px\;"><span style="color:#696969\;"><span style="font-family: helvetica\, arial\, sans-serif\; line-height: 18px\;">H.U.G.S Foxboro works in collaboration with the Foxboro Police\, Foxboro Council on Aging\, and the Human Services to help vic</span><span class="text_exposed_show" style="display: inline\; font-family: helvetica\, arial\, sans-serif\; line-height: 18px\;">tims of domestic violence by:</span></span></div>\n\n<ul>\n	<li style="font-size: 14px\;"><span style="color:#696969\;">Providing the Foxboro police department with phone cards and gift cards for individuals escaping from a domestic violence situation.</span></li>\n	<li style="font-size: 14px\;"><span style="color:#696969\;"><span class="text_exposed_show" style="display: inline\; font-family: helvetica\, arial\, sans-serif\; line-height: 18px\;">Offering taxi vouchers to transport victims to court\, counseling\, or shelters</span></span></li>\n	<li style="font-size: 14px\;"><span style="color:#696969\;"><span class="text_exposed_show" style="display: inline\; font-family: helvetica\, arial\, sans-serif\; line-height: 18px\;">Offering lock changes</span></span></li>\n	<li style="font-size: 14px\;"><span style="color:#696969\;"><span class="text_exposed_show" style="display: inline\; font-family: helvetica\, arial\, sans-serif\; line-height: 18px\;">Referrals to a local domestic violence support group and a Foxboro community social worker</span></span></li>\n	<li><span style="color:#696969\;"><span class="text_exposed_show" style="display: inline\; font-family: helvetica\, arial\, sans-serif\; line-height: 18px\;">Working with the schools and community to provide programs that create awareness and educate about violence</span></span></li>\n</ul>\n<span style="color:#696969\;"><span class="text_exposed_show" style="display: inline\; font-family: helvetica\, arial\, sans-serif\; line-height: 18px\;">WEBSITE:&nbsp\;</span></span><span style="color:#1F497D\;"><span style="font-family:calibri\,sans-serif\;"><span style="font-size:11.0pt\;"><a href="http://www.hugsfoxboro.org/index.html">http://www.hugsfoxboro.org</a></span></span></span><br />\n&nbsp\;
LOCATION:HUGS Garden of Courage Foxborough Fire Station Public Safety Building 8 Chestnut Street in Foxboro
UID:e.1730.1686
SEQUENCE:3
DTSTAMP:20260419T172450Z
URL:https://www.tri-townchamber.org/events/details/annual-hugs-walk-family-fun-day-10-03-2015-1686
END:VEVENT

END:VCALENDAR
