BEGIN:VCALENDAR
VERSION:2.0
PRODID:-//ChamberMaster//Event Calendar 2.0//EN
METHOD:PUBLISH
X-PUBLISHED-TTL:P3D
REFRESH-INTERVAL:P3D
CALSCALE:GREGORIAN
BEGIN:VEVENT
DTSTART:20140929T113000Z
DTEND:20140930T000000Z
X-MICROSOFT-CDO-ALLDAYEVENT:FALSE
SUMMARY:Annual Golf Classic
DESCRIPTION:AGC Scholarship Foundation's\n\nAnnual Golf Classic\n\n\n\n \n\nClosest to the pin contest\n\nOn-Course Raffle\n\nFollowed by cocktail reception: auction/raffle\, presentation of team/contest winners
X-ALT-DESC;FMTTYPE=text/html:<div style="text-align: center\; ">AGC Scholarship Foundation&#39\;s<br />\n<strong>A</strong>nnual <strong>G</strong>olf <strong>C</strong>lassic<br />\n<br />\n&nbsp\;</div>\n\n<div style="text-align: center\; ">Closest to the pin contest<br />\nOn-Course Raffle<br />\nFollowed by cocktail reception: auction/raffle\, presentation of team/contest winners</div>\n
LOCATION:Brookmeadow Country Club 100 Everendon Road Canton\, MA 02021
UID:e.1730.999
SEQUENCE:3
DTSTAMP:20260420T150056Z
URL:https://www.tri-townchamber.org/events/details/annual-golf-classic-09-29-2014-999
END:VEVENT

END:VCALENDAR
