BEGIN:VCALENDAR
VERSION:2.0
PRODID:-//ChamberMaster//Event Calendar 2.0//EN
METHOD:PUBLISH
X-PUBLISHED-TTL:P3D
REFRESH-INTERVAL:P3D
CALSCALE:GREGORIAN
BEGIN:VEVENT
DTSTART:20151021T223000Z
DTEND:20151022T003000Z
X-MICROSOFT-CDO-ALLDAYEVENT:FALSE
SUMMARY:Anne Amie Wine Seminar with guest Boyd Pearson
DESCRIPTION:
X-ALT-DESC;FMTTYPE=text/html:
LOCATION:Wines And More 280 School St. Mansfield\, Ma 02048
UID:e.1730.1715
SEQUENCE:3
DTSTAMP:20260419T172527Z
URL:https://www.tri-townchamber.org/events/details/anne-amie-wine-seminar-with-guest-boyd-pearson-10-21-2015-1715
END:VEVENT

END:VCALENDAR
