BEGIN:VCALENDAR
VERSION:2.0
PRODID:-//ChamberMaster//Event Calendar 2.0//EN
METHOD:PUBLISH
X-PUBLISHED-TTL:P3D
REFRESH-INTERVAL:P3D
CALSCALE:GREGORIAN
BEGIN:VEVENT
DTSTART:20140325T220000Z
DTEND:20140326T000000Z
X-MICROSOFT-CDO-ALLDAYEVENT:FALSE
SUMMARY:Alzheimers Awareness Dinner
DESCRIPTION:Dr. Peter Synder and Dr. Yen Ying from Brown University will be discussing the diagnosis and treatments for Alzheimer's Dementia.\n\n \n\nWhen:  Tuesday\, March 25\, 2014\n\n             6:00 - 7:00 pm   Dinner\n\n             7:00 - 8:00 pm   Talk & Questions\n\nWhere:  Foxboro Country Club\n\nCost: $30 per person\, buffet dinner\, pay at door (cash bar)\n\nPeople can come to the Talk and Questions starting at 7 pm if they choose.\n\n \n\nThis promises to be a fascinating conversation with leading researchers in the field about a disease that affects so many. Feel free to spread the word!\n\n \n\nRSVP to lorirudd@remax.net by March 17\, 2014.
X-ALT-DESC;FMTTYPE=text/html:Dr. Peter Synder and Dr. Yen Ying from Brown University will be discussing the diagnosis and treatments for Alzheimer&#39\;s Dementia.<br />\n&nbsp\;<br />\nWhen:&nbsp\; Tuesday\, March 25\, 2014<br />\n&nbsp\;&nbsp\;&nbsp\;&nbsp\;&nbsp\;&nbsp\;&nbsp\;&nbsp\;&nbsp\;&nbsp\;&nbsp\;&nbsp\; 6:00 - 7:00 pm&nbsp\;&nbsp\; Dinner<br />\n&nbsp\;&nbsp\;&nbsp\;&nbsp\;&nbsp\;&nbsp\;&nbsp\;&nbsp\;&nbsp\;&nbsp\;&nbsp\;&nbsp\; 7:00 - 8:00 pm&nbsp\;&nbsp\; Talk &amp\; Questions<br />\nWhere:&nbsp\; Foxboro Country Club<br />\nCost: $30 per person\, buffet dinner\, pay at door (cash bar)<br />\nPeople can come to the Talk and Questions starting at 7 pm if they choose.<br />\n&nbsp\;<br />\nThis promises to be a fascinating conversation with leading researchers in the field about a disease that affects so many. Feel free to spread the word!<br />\n&nbsp\;<br />\nRSVP to lorirudd@remax.net by March 17\, 2014.<br />\n&nbsp\;
LOCATION:Foxborough Country Club\, 33 Walnut Street\, Foxborough\, MA 02035
UID:e.1730.981
SEQUENCE:3
DTSTAMP:20260421T014928Z
URL:https://www.tri-townchamber.org/events/details/alzheimers-awareness-dinner-03-25-2014-981
END:VEVENT

END:VCALENDAR
