BEGIN:VCALENDAR
VERSION:2.0
PRODID:-//ChamberMaster//Event Calendar 2.0//EN
METHOD:PUBLISH
X-PUBLISHED-TTL:P3D
REFRESH-INTERVAL:P3D
CALSCALE:GREGORIAN
BEGIN:VEVENT
DTSTART:20150925T200000Z
DTEND:20150925T230000Z
X-MICROSOFT-CDO-ALLDAYEVENT:FALSE
SUMMARY:Alzheimer's Music Project
DESCRIPTION:Xfinity Center and Live Nation are proud to support the Alzheimer's Music Project. The drive calls for gently used iPods\, which will be wiped and restored to factory settings. The iPods will then be filled with playlists tailored to each specific recipient suffering from Alzheimers. iTunes gift cards and cash donations will be accepted as part of the drive.
X-ALT-DESC;FMTTYPE=text/html:Xfinity Center and Live Nation are proud to support the Alzheimer&#39\;s Music Project. The drive calls for gently used iPods\, which will be wiped and restored to factory settings. The iPods will then be filled with playlists tailored to each specific recipient suffering from Alzheimers. iTunes gift cards and cash donations will be accepted as part of the drive.
LOCATION:Xfinity Center- Outside of main gates
UID:e.1730.1714
SEQUENCE:3
DTSTAMP:20260419T190116Z
URL:https://www.tri-townchamber.org/events/details/alzheimer-s-music-project-09-25-2015-1714
END:VEVENT

END:VCALENDAR
