BEGIN:VCALENDAR
VERSION:2.0
PRODID:-//ChamberMaster//Event Calendar 2.0//EN
METHOD:PUBLISH
X-PUBLISHED-TTL:P3D
REFRESH-INTERVAL:P3D
CALSCALE:GREGORIAN
BEGIN:VEVENT
DTSTART:20150919T130000Z
DTEND:20150919T160000Z
X-MICROSOFT-CDO-ALLDAYEVENT:FALSE
SUMMARY:Alpha Computer Training - FREE Electronics Recycle Event
DESCRIPTION:Clean out all those unwanted electronics cluttering your closets and basements and bring them to us to recycle properly. (No tvs please.)
X-ALT-DESC;FMTTYPE=text/html:Clean out all those unwanted electronics cluttering your closets and basements and bring them to us to recycle properly. (No tvs please.)
LOCATION:The Alpha Group 61 East Main St Norton\, MA 02766 Back parking lot
UID:e.1730.1712
SEQUENCE:3
DTSTAMP:20260419T185905Z
URL:https://www.tri-townchamber.org/events/details/alpha-computer-training-free-electronics-recycle-event-09-19-2015-1712
END:VEVENT

END:VCALENDAR
