BEGIN:VCALENDAR
VERSION:2.0
PRODID:-//ChamberMaster//Event Calendar 2.0//EN
METHOD:PUBLISH
X-PUBLISHED-TTL:P3D
REFRESH-INTERVAL:P3D
CALSCALE:GREGORIAN
BEGIN:VEVENT
DTSTART:20151106T000000Z
DTEND:20151106T013000Z
X-MICROSOFT-CDO-ALLDAYEVENT:FALSE
SUMMARY:Allergies: From Peanuts to Hay Fever
DESCRIPTION:Join Brigham and Women's Allergy Department's Dr. Joyce Hsu and Dr. Min Lee as they discuss food allergies and a common fall ailment\, allergic rhinitis   more commonly known as hay fever. They will also share strategies to manage symptoms and the latest treatments. To learn more and register for this event\, please call (866) 378-9164.
X-ALT-DESC;FMTTYPE=text/html:Join Brigham and Women&#39\;s Allergy Department&#39\;s Dr. Joyce Hsu and Dr. Min Lee as they discuss food allergies and a common fall ailment\, allergic rhinitis &ndash\; more commonly known as hay fever. They will also share strategies to manage symptoms and the latest treatments. <strong>To learn more and register for this event\, please call (866) 378-9164.</strong>
LOCATION:2d Floor Conference Room\, Brigham and Women's/Mass General Health Care Center\, 20 Patriot Place\, Foxborough MA
UID:e.1730.1839
SEQUENCE:3
DTSTAMP:20260419T154655Z
URL:https://www.tri-townchamber.org/events/details/allergies-from-peanuts-to-hay-fever-11-05-2015-1839
END:VEVENT

END:VCALENDAR
