BEGIN:VCALENDAR
VERSION:2.0
PRODID:-//ChamberMaster//Event Calendar 2.0//EN
METHOD:PUBLISH
X-PUBLISHED-TTL:P3D
REFRESH-INTERVAL:P3D
CALSCALE:GREGORIAN
BEGIN:VEVENT
DTSTART:20150517T170000Z
DTEND:20150517T190000Z
X-MICROSOFT-CDO-ALLDAYEVENT:FALSE
SUMMARY:All Student Show and Open House
DESCRIPTION:Hunakai Studio of Fine Arts is holding their annual big event. Join in celebrating the wonderful work created this year by all of the art students. Artists Demos\, Kids Activities\, Face Painting\, Nail Art\, Food and Music. Hunakai specializes in offering fine art classes to kids\, teens and adults of all levels.
X-ALT-DESC;FMTTYPE=text/html:Hunakai Studio of Fine Arts is holding their annual big event. Join in celebrating the wonderful work created this year by all of the art students. Artists Demos\, Kids Activities\, Face Painting\, Nail Art\, Food and Music. Hunakai specializes in offering fine art classes to kids\, teens and adults of all levels.
LOCATION:263 Central St. Foxboro\, MA 02035
UID:e.1730.1651
SEQUENCE:3
DTSTAMP:20260420T032415Z
URL:https://www.tri-townchamber.org/events/details/all-student-show-and-open-house-05-17-2015-1651
END:VEVENT

END:VCALENDAR
