BEGIN:VCALENDAR
VERSION:2.0
PRODID:-//ChamberMaster//Event Calendar 2.0//EN
METHOD:PUBLISH
X-PUBLISHED-TTL:P3D
REFRESH-INTERVAL:P3D
CALSCALE:GREGORIAN
BEGIN:VEVENT
DTSTART;VALUE=DATE:20140109
DTEND;VALUE=DATE:20140110
TRANSP:TRANSPARENT
X-MICROSOFT-CDO-ALLDAYEVENT:TRUE
SUMMARY:Admission Open House
DESCRIPTION:The Sage School Open House is a great opportunity for parents looking for gifted education to visit Sage while classes are in-session to see first-hand our curriculum for advanced learners. The two-hour program starts at 9:00 am.  Join us for tours\, chance to meet with current parents and our Head of School Dr. Nan Wodarz.
X-ALT-DESC;FMTTYPE=text/html:The Sage School Open House is a great opportunity for parents looking for gifted education&nbsp\;to visit Sage while classes are in-session to see first-hand our curriculum for advanced learners. The two-hour program starts at 9:00 am.&nbsp\; Join us for tours\, chance to meet with current parents and our Head of School Dr. Nan Wodarz.<br />\n<br />\n<br type="_moz" />\n
LOCATION:171 Mechanic Street\, Foxborough\, MA
UID:e.1730.454
SEQUENCE:3
DTSTAMP:20260421T051616Z
URL:https://www.tri-townchamber.org/events/details/admission-open-house-01-09-2014-454
END:VEVENT

END:VCALENDAR
