BEGIN:VCALENDAR
VERSION:2.0
PRODID:-//ChamberMaster//Event Calendar 2.0//EN
METHOD:PUBLISH
X-PUBLISHED-TTL:P3D
REFRESH-INTERVAL:P3D
CALSCALE:GREGORIAN
BEGIN:VEVENT
DTSTART:20151111T000000Z
DTEND:20151111T013000Z
X-MICROSOFT-CDO-ALLDAYEVENT:FALSE
SUMMARY:Active Living with Incontinence
DESCRIPTION:Join Brigham and Women's Urology Department's Dr. Graeme Steele as he discusses management of overactive bladder\, urinary incontinence and the role of diet and exercise in reducing the risk for urological issues. To learn more and register for this event\, please call (866) 378-9164.
X-ALT-DESC;FMTTYPE=text/html:Join Brigham and Women&#39\;s Urology Department&#39\;s Dr. Graeme Steele as he discusses management of overactive bladder\, urinary incontinence and the role of diet and exercise in reducing the risk for urological issues. <strong>To learn more and register for this event\, please call (866) 378-9164.</strong>
LOCATION:2d Floor Conference Room\, Brigham and Women's/ Mass General Health Care Center\, 20 Patriot Place\, Foxborough\, MA
UID:e.1730.1841
SEQUENCE:3
DTSTAMP:20260419T154542Z
URL:https://www.tri-townchamber.org/events/details/active-living-with-incontinence-11-10-2015-1841
END:VEVENT

END:VCALENDAR
