BEGIN:VCALENDAR
VERSION:2.0
PRODID:-//ChamberMaster//Event Calendar 2.0//EN
METHOD:PUBLISH
X-PUBLISHED-TTL:P3D
REFRESH-INTERVAL:P3D
CALSCALE:GREGORIAN
BEGIN:VEVENT
DTSTART:20140508T230000Z
DTEND:20140509T010000Z
X-MICROSOFT-CDO-ALLDAYEVENT:FALSE
SUMMARY:A Message of Hope - Elizabeth Smart Presentation hosted by the Hockomock Area YMCA
DESCRIPTION:The Hockomock Area YMCA is pleased to announce that the Y will host Child Protection Activist\, Elizabeth Smart on Thursday evening\, May 8\, 2014.\n\n\n\nElizabeth will tell her personal story chronicled in her best-selling book\, "My Story." She and other abduction survivors worked with the Dept. of Justice to create a survivor's guide\, entitled "You're Not Alone: The Journey from Abduction to Empowerment."  Smart's personal story will inspire men and women to remain hopeful when faced with difficult situations in their lives.\n\n\n\nA limited number of tickets are now on sale at the Invensys Foxboro Branch\, Bernon Family Branch in Franklin\, and North Attleboro Branch of the Hockomock Area YMCA for $20.00 each. This event will be held at Foxborough High School at 7:00PM and is open to the public.    \n\n\n\nDue to the nature of the topic\, the program will only be open to those ages 12 and over. Use of any video equipment will not be allowed. \n\n\n\nSponsorship opportunities are available and an ASL interpreter will be present. For questions regarding the event\, ADA Accommodations\, or if you need more information\, please contact Marge Kraskouskas\, VP of HR\, at 508.643.5239 or email margek@hockymca.org.
X-ALT-DESC;FMTTYPE=text/html:<span style="color: rgb(0\, 107\, 107)\; font-family: &quot\;Verdana&quot\;\,&quot\;sans-serif&quot\;\; font-size: 12pt\; mso-fareast-font-family: Calibri\; mso-fareast-theme-font: minor-latin\; mso-bidi-font-family: &quot\;Times New Roman&quot\;\; mso-ansi-language: EN-US\; mso-fareast-language: EN-US\; mso-bidi-language: AR-SA\;"><strong>The Hockomock Area YMCA&nbsp\;</strong></span><span style="color: rgb(0\, 107\, 107)\; font-family: &quot\;Verdana&quot\;\,&quot\;sans-serif&quot\;\; font-size: 12pt\; mso-fareast-font-family: Calibri\; mso-fareast-theme-font: minor-latin\; mso-bidi-font-family: &quot\;Times New Roman&quot\;\; mso-ansi-language: EN-US\; mso-fareast-language: EN-US\; mso-bidi-language: AR-SA\;">is pleased to announce that the Y will host Child Protection Activist\, Elizabeth Smart on <b>Thursday evening\, May 8\, 2014.</b></span><br />\n<br />\n<span style="color: rgb(0\, 107\, 107)\; font-family: &quot\;Verdana&quot\;\,&quot\;sans-serif&quot\;\; font-size: 12pt\; mso-fareast-font-family: Calibri\; mso-fareast-theme-font: minor-latin\; mso-bidi-font-family: &quot\;Times New Roman&quot\;\; mso-ansi-language: EN-US\; mso-fareast-language: EN-US\; mso-bidi-language: AR-SA\;">Elizabeth will tell her personal story chronicled in her best-selling book\, <b>&quot\;My Story.&quot\;</b>&nbsp\;She and other abduction survivors worked with the Dept. of Justice to create a survivor&#39\;s guide\, entitled &quot\;You&#39\;re Not Alone: The Journey from Abduction to Empowerment.&quot\;&nbsp\; Smart&#39\;s personal story will inspire <u>men and women</u> to remain hopeful when faced with difficult situations in their lives.<br />\n<br />\nA <b>limited number of tickets </b>are&nbsp\;now on sale&nbsp\;at the Invensys Foxboro&nbsp\;Branch\, Bernon Family Branch in Franklin\, and North Attleboro Branch of the Hockomock Area YMCA for $20.00 each.&nbsp\;This event will be held at <b>Foxborough High School at 7:00PM and is open to the public.&nbsp\;&nbsp\;</b>&nbsp\; </span><br />\n<br />\n<b><span style="color: rgb(0\, 107\, 107)\; font-family: &quot\;Verdana&quot\;\,&quot\;sans-serif&quot\;\; font-size: 12pt\; mso-fareast-font-family: Calibri\; mso-fareast-theme-font: minor-latin\; mso-bidi-font-family: &quot\;Times New Roman&quot\;\; mso-ansi-language: EN-US\; mso-fareast-language: EN-US\; mso-bidi-language: AR-SA\;">Due to the nature of the topic\, the program will only be open to those ages 12 and over.</span></b><span style="color: rgb(0\, 107\, 107)\; font-family: &quot\;Verdana&quot\;\,&quot\;sans-serif&quot\;\; font-size: 12pt\; mso-fareast-font-family: Calibri\; mso-fareast-theme-font: minor-latin\; mso-bidi-font-family: &quot\;Times New Roman&quot\;\; mso-ansi-language: EN-US\; mso-fareast-language: EN-US\; mso-bidi-language: AR-SA\;"> Use of any video equipment will not be allowed.&nbsp\;<br />\n<br />\nSponsorship opportunities are available and an&nbsp\;ASL interpreter will be present.&nbsp\;For questions regarding the event\, ADA Accommodations\, or if you&nbsp\;need more information\, please&nbsp\;contact Marge Kraskouskas\, VP of HR\, at <a href="tel:508.643.5239" target="_blank"><font color="#0000ff">508.643.5239</font></a> or email </span><span style="color: rgb(51\, 51\, 51)\; font-family: &quot\;Verdana&quot\;\,&quot\;sans-serif&quot\;\; font-size: 12pt\; mso-fareast-font-family: Calibri\; mso-fareast-theme-font: minor-latin\; mso-bidi-font-family: &quot\;Times New Roman&quot\;\; mso-ansi-language: EN-US\; mso-fareast-language: EN-US\; mso-bidi-language: AR-SA\;"><a href="mailto:margek@hockymca.org" target="_blank"><span style="color: rgb(0\, 107\, 107)\;">margek@hockymca.org</span></a></span><span style="color: rgb(0\, 107\, 107)\; font-family: &quot\;Verdana&quot\;\,&quot\;sans-serif&quot\;\; font-size: 12pt\; mso-fareast-font-family: Calibri\; mso-fareast-theme-font: minor-latin\; mso-bidi-font-family: &quot\;Times New Roman&quot\;\; mso-ansi-language: EN-US\; mso-fareast-language: EN-US\; mso-bidi-language: AR-SA\;">.</span><span style="color: rgb(1\, 164\, 144)\; font-family: &quot\;Verdana&quot\;\,&quot\;sans-serif&quot\;\; font-size: 12pt\; mso-fareast-font-family: Calibri\; mso-fareast-theme-font: minor-latin\; mso-bidi-font-family: &quot\;Times New Roman&quot\;\; mso-ansi-language: EN-US\; mso-fareast-language: EN-US\; mso-bidi-language: AR-SA\;">&nbsp\;</span><span style="color: rgb(0\, 107\, 107)\; font-family: &quot\;Verdana&quot\;\,&quot\;sans-serif&quot\;\; font-size: 12pt\; mso-fareast-font-family: Calibri\; mso-fareast-theme-font: minor-latin\; mso-bidi-font-family: &quot\;Times New Roman&quot\;\; mso-ansi-language: EN-US\; mso-fareast-language: EN-US\; mso-bidi-language: AR-SA\;">&nbsp\;</span>
LOCATION:Foxborough High School
UID:e.1730.980
SEQUENCE:3
DTSTAMP:20260421T001444Z
URL:https://www.tri-townchamber.org/events/details/a-message-of-hope-elizabeth-smart-presentation-hosted-by-the-hockomock-area-ymca-05-08-2014-980
END:VEVENT

END:VCALENDAR
