BEGIN:VCALENDAR
VERSION:2.0
PRODID:-//ChamberMaster//Event Calendar 2.0//EN
METHOD:PUBLISH
X-PUBLISHED-TTL:P3D
REFRESH-INTERVAL:P3D
CALSCALE:GREGORIAN
BEGIN:VEVENT
DTSTART:20140621T210000Z
DTEND:20140622T020000Z
X-MICROSOFT-CDO-ALLDAYEVENT:FALSE
SUMMARY:3rd Annual Norton Founder's Day Picnic & Fireworks
DESCRIPTION:3rd ANNUAL NORTON FOUNDER'S DAY PICNIC & FIREWORKS\n\nHenri Yelle School Field   on Saturday\, June 21\, 2014   (Rain Date: Saturday\, June 28\, 2014)\n\n \n\nSchedule of Events*\n\n5:00 Founder's Day Kick-off Celebration\n\n5:00-8:45 Local Bands and DJ\n\n5:00-8:30 Grand Field\n  Kiddie Train Rides\n\n  Fire Dept Demonstrations\n\n  Petting Zoo\n\n  Pony Rides\n\n  And MUCH more!\n5:00-9:00 Food Court on the Midway\n\n7:00 Blueberry Pie-Eating Contests for Kids & Adults on the Grand Field Stage\n\n5:00-8:00 Antique Cars - East end\n\n5:00-8:00 Kids' Events - Baseball field\n  Tug-of-War\n\n  Sack Races\n\n  Three-Legged Races\n\n  Pick-up Wiffle Ball\n8:45 Local Singer Timmy Brown\n\n9:00 Community Sing-A-Long\n\n9:10 Fireworks\n\n*all times and events are subject to change\n\n \n\nSpecial thanks to all our sponsors\, listed at www.nortonparksandrec.com/founders-day-picnic/.  We are collecting donations from local businesses and friends of the Norton Founder's Day Picnic & Fireworks all year.  If you are so inclined\, please consider a family donation of $20.00.  The more that is donated\, the bigger the fun & fireworks!!!  Please make checks payable to 'Town of Norton' & send donations to: Town of Norton\, Attn: Parks and Recreation/ Norton Founder's Day Picnic\, 70 East Main Street Norton\, MA 02766.\n\nQuestions?  Call Sheri at 617-688-4454.\n\nTHANK YOU for your continued support and we hope to see you there!!
X-ALT-DESC;FMTTYPE=text/html:<strong>3rd ANNUAL NORTON FOUNDER&rsquo\;S DAY PICNIC &amp\; FIREWORKS</strong><br />\nHenri Yelle School Field &nbsp\; on&nbsp\;Saturday\, June 21\, 2014 &nbsp\; (Rain Date: Saturday\, June 28\, 2014)<br />\n&nbsp\;<br />\nSchedule of Events*<br />\n5:00 Founder&rsquo\;s Day Kick-off Celebration<br />\n5:00-8:45 Local Bands and DJ<br />\n5:00-8:30 Grand Field\n<div style="margin-left: 40px\;">&bull\; Kiddie Train Rides<br />\n&bull\; Fire Dept Demonstrations<br />\n&bull\; Petting Zoo<br />\n&bull\; Pony Rides<br />\n&bull\; And MUCH more!</div>\n5:00-9:00 Food Court on the Midway<br />\n7:00 Blueberry Pie-Eating Contests for Kids &amp\; Adults on the Grand Field Stage<br />\n5:00-8:00 Antique Cars - East end<br />\n5:00-8:00 Kids&rsquo\; Events - Baseball field\n<div style="margin-left: 40px\;">&bull\; Tug-of-War<br />\n&bull\; Sack Races<br />\n&bull\; Three-Legged Races<br />\n&bull\; Pick-up Wiffle Ball</div>\n8:45 Local Singer Timmy Brown<br />\n9:00 Community Sing-A-Long<br />\n9:10 Fireworks<br />\n<em>*all times and events are subject to change</em><br />\n&nbsp\;<br />\nSpecial thanks to all our sponsors\, listed at www.nortonparksandrec.com/founders-day-picnic/.&nbsp\; We are collecting donations from local businesses and friends of the Norton Founder&rsquo\;s Day Picnic &amp\; Fireworks all year.&nbsp\; If you are so inclined\, please consider a family donation of $20.00.&nbsp\; The more that is donated\, the bigger the fun &amp\; fireworks!!!&nbsp\; Please make checks payable to &lsquo\;Town of Norton&rsquo\; &amp\; send donations to: Town of Norton\, Attn: Parks and Recreation/ Norton Founder&rsquo\;s Day Picnic\, 70 East Main Street Norton\, MA 02766.<br />\nQuestions?&nbsp\; Call Sheri at 617-688-4454.<br />\nTHANK YOU for your continued support and we hope to see you there!!
LOCATION:Henri Yelle School Field\, Norton
UID:e.1730.1015
SEQUENCE:3
DTSTAMP:20260420T201811Z
URL:https://www.tri-townchamber.org/events/details/3rd-annual-norton-founder-s-day-picnic-fireworks-06-21-2014-1015
END:VEVENT

END:VCALENDAR
