BEGIN:VCALENDAR
VERSION:2.0
PRODID:-//ChamberMaster//Event Calendar 2.0//EN
METHOD:PUBLISH
X-PUBLISHED-TTL:P3D
REFRESH-INTERVAL:P3D
CALSCALE:GREGORIAN
BEGIN:VEVENT
DTSTART:20140927T140000Z
DTEND:20140927T190000Z
X-MICROSOFT-CDO-ALLDAYEVENT:FALSE
SUMMARY:3rd Annual Fire Truck Pull at Xfinity
DESCRIPTION:3rd Annual Fire Truck Pull and Touch-A-Truck event at the Xfinity Center in Mansfield\, all to benefit Special Olympics!\n\nEach year the event has been getting bigger and bigger.\n\nThe Fire Truck portion of the event is a great team building experience that has 10 to 12 members of a team pull two different large fire trucks and the the fastest team wins! This year they have a separate corporate/business division. In many of these events all over the country teams form businesses will come out and sponsor a team. Teams are asked to raise $500 per team and we make it easy for them to register their team on-line and then team members can use Facebook and other social media sites to individually raise money. The site is www.masstorchrun.org \, then click on the Fire Truck Pull on the right hand side of the page.\n\nLooking to get any local business that may have a unique vehicle or truck that would like to come out and promote their business to do so. We have plenty of room and we encourage people to set up tables or tents to promote their business. This year we are looking at a Clear Channel radio station joining us at the event along with some Patriots Cheerleaders as well as the State Police Helicopter and a lot of other vehicles and demonstrations to add to our event. No charge to the public to attend this event.\n\n\n\nWe would love to see some of our local businesses set up a team and battle for the 1st place corporate/business division trophy as well as bragging rights.
X-ALT-DESC;FMTTYPE=text/html:<span style="font-family:arial\,sans-serif\;"><strong>3rd Annual Fire Truck Pull and Touch-A-Truck event </strong>at the Xfinity Center in Mansfield\, all to benefit Special Olympics!<br />\nEach year the event has been getting bigger and bigger.<br />\nThe Fire Truck portion of the event is a great team building experience that has 10 to 12 members of a team pull two different large fire trucks and the the fastest team wins! This year they have a separate corporate/business division. In many of these events all over the country teams form businesses will come out and sponsor a team. Teams are asked to raise $500 per team and we make it easy for them to register their team on-line and then team members can use Facebook and other social media sites to individually raise money. The site is <a href="http://www.masstorchrun.org">www.masstorchrun.org</a> \, then click on the Fire Truck Pull on the right hand side of the page.<br />\nLooking to get any local business that may have a unique vehicle or truck that would like to come out and promote their business to do so. We have plenty of room and we encourage people to set up tables or tents to promote their business. This year we are looking at a Clear Channel radio station joining us at the event along with some Patriots Cheerleaders as well as the State Police Helicopter and a lot of other vehicles and demonstrations to add to our event. No charge to the public to attend this event.<br />\n<br />\nWe would love to see some of our local businesses set up a team and battle for the 1st place corporate/business division trophy as well as bragging rights.&nbsp\;</span>
LOCATION:Xfinity Center in Mansfield
UID:e.1730.1058
SEQUENCE:3
DTSTAMP:20260420T150057Z
URL:https://www.tri-townchamber.org/events/details/3rd-annual-fire-truck-pull-at-xfinity-09-27-2014-1058
END:VEVENT

END:VCALENDAR
