BEGIN:VCALENDAR
VERSION:2.0
PRODID:-//ChamberMaster//Event Calendar 2.0//EN
METHOD:PUBLISH
X-PUBLISHED-TTL:P3D
REFRESH-INTERVAL:P3D
CALSCALE:GREGORIAN
BEGIN:VEVENT
DTSTART:20130620T210000Z
DTEND:20130620T230000Z
X-MICROSOFT-CDO-ALLDAYEVENT:FALSE
SUMMARY:3 Chamber's Networking Event
DESCRIPTION:Tri-Town Chamber member the United Way of Greater Attleboro/Taunton will be hosting a Business After Hours and has invited Tri-Town Chamber Members to attend. This is a joint event with The United Regional Chamber of Commerce\, the Taunton Area Chamber of Commerce\, and the Tri-Town Chambers of Commerce.
X-ALT-DESC;FMTTYPE=text/html:Tri-Town Chamber member the United Way of Greater Attleboro/Taunton will be hosting a Business After Hours and has invited Tri-Town Chamber Members to attend. This is a joint event with The United Regional Chamber of Commerce\, the Taunton Area Chamber of Commerce\, and the Tri-Town Chambers of Commerce.&nbsp\;<br />\n<br />\n
LOCATION:United Way of Greater Attleboro/Taunton 247 Maple St. Attleboro\, MA 02703
UID:e.1730.155
SEQUENCE:3
DTSTAMP:20260421T160904Z
URL:https://www.tri-townchamber.org/events/details/3-chamber-s-networking-event-06-20-2013-155
END:VEVENT

END:VCALENDAR
