BEGIN:VCALENDAR
VERSION:2.0
PRODID:-//ChamberMaster//Event Calendar 2.0//EN
METHOD:PUBLISH
X-PUBLISHED-TTL:P3D
REFRESH-INTERVAL:P3D
CALSCALE:GREGORIAN
BEGIN:VEVENT
DTSTART:20150426T153000Z
DTEND:20150426T180000Z
X-MICROSOFT-CDO-ALLDAYEVENT:FALSE
SUMMARY:2nd Annual Spring Luncheon to Benefit Community VNA
DESCRIPTION:Celebrate Spring at Community VNA Luncheon\n\nCommunity VNA is excited to host our 2nd Annual Spring Break Luncheon on Sunday\, April 26th from 11:30AM to 2PM. Enjoy a fabulous sit-down luncheon\, entertainment by celebrity impressionist and nationally known comedian Michael Petit\, great raffle prizes and fun at the beautiful Highland Country Club located at 104 Mechanics Street in Attleboro.\n\nThe ticket price is $35\, an affordable and unique way to treat family members\, friends and business associates to lunch while supporting a great cause. Spring Break Luncheon funds will help meet the increasing costs of providing comprehensive free care and support to all those in need including hospice care\, Alzheimer's care and other specialized services.\n\nHelp us welcome spring and support Community VNA\, a venerable agency which has skillfully served the people of our community for more than a century.
X-ALT-DESC;FMTTYPE=text/html:<strong><span style="font-size:12.0pt\;">Celebrate Spring at Community VNA Luncheon</span></strong><br />\nCommunity VNA is excited to host our 2<sup>nd</sup> Annual Spring Break Luncheon on Sunday\, April 26<sup>th</sup>&nbsp\;from 11:30AM to 2PM. Enjoy a fabulous sit-down luncheon\, entertainment by celebrity impressionist and nationally known comedian Michael Petit\, great raffle prizes and fun at the beautiful Highland Country Club located at 104 Mechanics Street in Attleboro.<br />\nThe ticket price is $35\, an affordable and unique way to treat family members\, friends and business associates to lunch while supporting a great cause. Spring Break Luncheon funds will help meet the increasing costs of providing comprehensive free care and support to all those in need including hospice care\, Alzheimer&rsquo\;s care and other specialized services.<br />\nHelp us welcome spring and support Community VNA\, a venerable agency which has skillfully served the people of our community for more than a century.&nbsp\;
LOCATION:Highland Country Club located at 104 Mechanics Street in Attleboro
UID:e.1730.1574
SEQUENCE:3
DTSTAMP:20260420T050209Z
URL:https://www.tri-townchamber.org/events/details/2nd-annual-spring-luncheon-to-benefit-community-vna-04-26-2015-1574
END:VEVENT

END:VCALENDAR
