BEGIN:VCALENDAR
VERSION:2.0
PRODID:-//ChamberMaster//Event Calendar 2.0//EN
METHOD:PUBLISH
X-PUBLISHED-TTL:P3D
REFRESH-INTERVAL:P3D
CALSCALE:GREGORIAN
BEGIN:VEVENT
DTSTART:20151129T200000Z
DTEND:20151129T220000Z
X-MICROSOFT-CDO-ALLDAYEVENT:FALSE
SUMMARY:20th Annual Mansfield Downtown Christmas Parade
DESCRIPTION:20th Annual Downtown Christmas Parade. Sunday\, November 29\,2015 at 3:00pm
X-ALT-DESC;FMTTYPE=text/html:<span style="color: rgb(84\, 84\, 84)\; font-family: arial\, sans-serif\; font-size: small\; line-height: 18.2px\;">&nbsp\;20th Annual Downtown&nbsp\;</span><span style="font-weight: bold\; color: rgb(106\, 106\, 106)\; font-family: arial\, sans-serif\; font-size: small\; line-height: 18.2px\;">Christmas Parade</span><span style="color: rgb(84\, 84\, 84)\; font-family: arial\, sans-serif\; font-size: small\; line-height: 18.2px\;">. Sunday\, November 29\,</span><span style="font-weight: bold\; color: rgb(106\, 106\, 106)\; font-family: arial\, sans-serif\; font-size: small\; line-height: 18.2px\;">2015</span><span style="color: rgb(84\, 84\, 84)\; font-family: arial\, sans-serif\; font-size: small\; line-height: 18.2px\;">&nbsp\;at 3:00pm</span>
LOCATION:Mans Street Mansfield
UID:e.1730.1848
SEQUENCE:3
DTSTAMP:20260419T154638Z
URL:https://www.tri-townchamber.org/events/details/20th-annual-mansfield-downtown-christmas-parade-11-29-2015-1848
END:VEVENT

END:VCALENDAR
