BEGIN:VCALENDAR
VERSION:2.0
PRODID:-//ChamberMaster//Event Calendar 2.0//EN
METHOD:PUBLISH
X-PUBLISHED-TTL:P3D
REFRESH-INTERVAL:P3D
CALSCALE:GREGORIAN
BEGIN:VEVENT
DTSTART;VALUE=DATE:20141006
DTEND;VALUE=DATE:20141007
TRANSP:TRANSPARENT
X-MICROSOFT-CDO-ALLDAYEVENT:TRUE
SUMMARY:2014 Annual fall Classic - United Way Golf Tournament
DESCRIPTION:Please join the United Way of Greater Attleboro/Taunton for their Annual Fall Classic on October 6\, 2014!\n\nUWGAT is proud to announce this year's tournament will be hosted at Agawam Hunt\, 15 Roger Williams Ave.\, Rumford\, RI 02916.\n\nSupport local community programs while enjoying 18 holes of golf and activities at this beautiful venue.\n\n Events of the day include:\n\n\n	10:00 am Welcome Registration and warm up\,\n	11:00 am Start with a scramble format (boxed lunch provided)\n	4:30pm Social followed by dinner\, awards\, and raffles.\n\n \n\nRegister now and remember to invite your friends to play!\n\nThank you for your support of United Way of Greater Attleboro/Taunton.
X-ALT-DESC;FMTTYPE=text/html:Please join the United Way of Greater Attleboro/Taunton for their Annual Fall Classic on October 6\, 2014!<br />\nUWGAT is proud to announce this year&rsquo\;s tournament will be hosted at Agawam Hunt\, 15 Roger Williams Ave.\, Rumford\, RI 02916.<br />\nSupport local community programs while enjoying 18 holes of golf and activities at this beautiful venue.<br />\n<em>&nbsp\;Events of the day include:</em>\n\n<ul>\n	<li>10:00 am Welcome Registration and warm up\,</li>\n	<li>11:00 am Start with a scramble format (boxed lunch provided)</li>\n	<li>4:30pm Social followed by dinner\, awards\, and raffles.</li>\n</ul>\n&nbsp\;<br />\nRegister now and remember to invite your friends to play!<br />\nThank you for your support of United Way of Greater Attleboro/Taunton.
LOCATION:Agawam Hunt at 15 Roger Williams Ave.\, Rumford\, RI
UID:e.1730.1034
SEQUENCE:3
DTSTAMP:20260420T132125Z
URL:https://www.tri-townchamber.org/events/details/2014-annual-fall-classic-united-way-golf-tournament-10-06-2014-1034
END:VEVENT

END:VCALENDAR
